View In:
ArcGIS JavaScript
ArcGIS Online Map Viewer
ArcGIS Earth
Service Description: wo_nfs_gtac-PoW_DominanceType
Name: wo_nfs_gtac/PoW_DominanceType
Description: wo_nfs_gtac-PoW_DominanceType
Single Fused Map Cache: false
Extent:
XMin: 773504.9862000048
YMin: 312896.60000000894
XMax: 930939.9862000048
YMax: 504791.60000000894
Spatial Reference: 26931
(26931)
Initial Extent:
XMin: 773504.9862000048
YMin: 312896.60000000894
XMax: 930939.9862000048
YMax: 504791.60000000894
Spatial Reference: 26931
(26931)
Full Extent:
XMin: 773504.9862000048
YMin: 312896.60000000894
XMax: 930939.9862000048
YMax: 504791.60000000894
Spatial Reference: 26931
(26931)
Pixel Size X: 5.0
Pixel Size Y: 5.0
Band Count: 1
Pixel Type: S8
RasterFunction Infos: {"rasterFunctionInfos": [{
"name": "None",
"description": "",
"help": ""
}]}
Mensuration Capabilities: Basic
Has Histograms: true
Has Colormap: false
Has Multi Dimensions : false
Rendering Rule:
Min Scale: 0
Max Scale: 0
Copyright Text:
Service Data Type: esriImageServiceDataTypeThematic
Min Values: 1
Max Values: 18
Mean Values: 11.416806486322
Standard Deviation Values: 4.6492425095309
Object ID Field:
Fields:
None
Default Mosaic Method: Center
Allowed Mosaic Methods:
SortField:
SortValue: null
Mosaic Operator: First
Default Compression Quality: 75
Default Resampling Method: Bilinear
Max Record Count: null
Max Image Height: 4100
Max Image Width: 15000
Max Download Image Count: null
Max Mosaic Image Count: null
Allow Raster Function: true
Allow Copy: true
Allow Analysis: true
Allow Compute TiePoints: false
Supports Statistics: false
Supports Advanced Queries: false
Use StandardizedQueries: true
Raster Type Infos:
Name: Raster Dataset
Description: Supports all ArcGIS Raster Datasets
Help:
Has Raster Attribute Table: true
Edit Fields Info: null
Ownership Based AccessControl For Rasters: null
Child Resources:
Info
Raster Attribute Table
Histograms
Statistics
Key Properties
Legend
Raster Function Infos
Supported Operations:
Export Image
Identify
Measure
Compute Histograms
Compute Statistics Histograms
Get Samples
Compute Class Statistics
Query Boundary
Compute Pixel Location
Compute Angles
Validate
Project