{
 "currentVersion": 11.1,
 "serviceDescription": "wo_nfs_gtac-PoW_DominanceType",
 "name": "wo_nfs_gtac/PoW_DominanceType",
 "description": "wo_nfs_gtac-PoW_DominanceType",
 "extent": {
  "xmin": 773504.9862000048,
  "ymin": 312896.60000000894,
  "xmax": 930939.9862000048,
  "ymax": 504791.60000000894,
  "spatialReference": {
   "wkid": 26931,
   "latestWkid": 26931
  }
 },
 "initialExtent": {
  "xmin": 773504.9862000048,
  "ymin": 312896.60000000894,
  "xmax": 930939.9862000048,
  "ymax": 504791.60000000894,
  "spatialReference": {
   "wkid": 26931,
   "latestWkid": 26931
  }
 },
 "fullExtent": {
  "xmin": 773504.9862000048,
  "ymin": 312896.60000000894,
  "xmax": 930939.9862000048,
  "ymax": 504791.60000000894,
  "spatialReference": {
   "wkid": 26931,
   "latestWkid": 26931
  }
 },
 "sortableFields": "",
 "bandCount": 1,
 "pixelType": "S8",
 "minValues": [
  1
 ],
 "maxValues": [
  18
 ],
 "meanValues": [
  11.416806486322
 ],
 "stdvValues": [
  4.6492425095309
 ],
 "hasMultidimensions": false,
 "pixelSizeX": 5,
 "pixelSizeY": 5,
 "datasetFormat": "IMAGINE Image",
 "uncompressedSize": 1208439573,
 "blockWidth": 64,
 "blockHeight": 64,
 "compressionType": "RLE",
 "bandNames": [
  "Layer_1"
 ],
 "allowCopy": true,
 "allowAnalysis": true,
 "itemAccess": false,
 "noDataValue": -128,
 "noDataValues": [
  -128
 ],
 "minPixelSize": 0,
 "maxPixelSize": 0,
 "copyrightText": "",
 "serviceDataType": "esriImageServiceDataTypeThematic",
 "serviceSourceType": "esriImageServiceSourceTypeDataset",
 "objectIdField": "",
 "fields": [],
 "capabilities": "Image,Metadata,Mensuration",
 "defaultMosaicMethod": "Center",
 "allowedMosaicMethods": "",
 "sortField": "",
 "sortValue": null,
 "sortAscending": true,
 "mosaicOperator": "First",
 "maxDownloadSizeLimit": 2097196,
 "defaultCompressionQuality": 75,
 "defaultResamplingMethod": "Bilinear",
 "maxImageHeight": 4100,
 "maxImageWidth": 15000,
 "allowRasterFunction": true,
 "rasterFunctionInfos": [
  {
   "name": "None",
   "description": "",
   "help": ""
  }
 ],
 "rasterTypeInfos": [
  {
   "name": "Raster Dataset",
   "description": "Supports all ArcGIS Raster Datasets",
   "help": ""
  }
 ],
 "mensurationCapabilities": "Basic",
 "hasHistograms": true,
 "hasColormap": false,
 "hasRasterAttributeTable": true,
 "minScale": 0,
 "maxScale": 0,
 "exportTilesAllowed": false,
 "supportsStatistics": false,
 "supportsAdvancedQueries": false,
 "editFieldsInfo": null,
 "ownershipBasedAccessControlForRasters": null,
 "allowComputeTiePoints": false,
 "useStandardizedQueries": true,
 "advancedQueryCapabilities": {
  "useStandardizedQueries": true,
  "supportsStatistics": false,
  "supportsOrderBy": false,
  "supportsDistinct": false,
  "supportsPagination": false
 },
 "spatialReference": {
  "wkid": 26931,
  "latestWkid": 26931
 }
}
