View In:
ArcGIS JavaScript
ArcGIS Online Map Viewer
ArcGIS Earth
Service Description: wo_nfs_gtac-Daymet_Seasonal_Precipitation
Name: wo_nfs_gtac/Daymet_Seasonal_Precipitation
Description: wo_nfs_gtac-Daymet_Seasonal_Precipitation
Single Fused Map Cache: false
Extent:
XMin: -3327000.0
YMin: 263000.0
XMax: 2564000.0
YMax: 5111000.0
Spatial Reference: 5070
(5070)
LatestVCSWkid(0)
Initial Extent:
XMin: -3327000.0
YMin: 263000.0
XMax: 2564000.0
YMax: 5111000.0
Spatial Reference: 5070
(5070)
LatestVCSWkid(0)
Full Extent:
XMin: -3327000.0
YMin: 263000.0
XMax: 2564000.0
YMax: 5111000.0
Spatial Reference: 5070
(5070)
LatestVCSWkid(0)
Pixel Size X: 1000.0
Pixel Size Y: 1000.0
Band Count: 4
Pixel Type: S32
RasterFunction Infos: {"rasterFunctionInfos": [{
"name": "None",
"description": "",
"help": ""
}]}
Mensuration Capabilities: Basic
Inspection Capabilities:
Has Histograms: true
Has Colormap: false
Has Multi Dimensions : false
Rendering Rule:
Min Scale: 0
Max Scale: 0
Copyright Text:
Service Data Type: esriImageServiceDataTypeGeneric
Min Values: 151, 32, 7, 133
Max Values: 26057, 13653, 16781, 24915
Mean Values: 2236.3253623332, 2589.2989578316, 2491.7847391734, 2436.3156733672
Standard Deviation Values: 1941.935248723, 1329.8966523403, 1573.2841672333, 1990.4498619647
Object ID Field:
Fields:
None
Default Mosaic Method: Center
Allowed Mosaic Methods:
SortField:
SortValue: null
Mosaic Operator: First
Default Compression Quality: 75
Default Resampling Method: Bilinear
Max Record Count: null
Max Image Height: 4100
Max Image Width: 15000
Max Download Image Count: null
Max Mosaic Image Count: null
Allow Raster Function: true
Allow Copy: true
Allow Analysis: true
Allow Compute TiePoints: false
Supports Statistics: false
Supports Advanced Queries: false
Use StandardizedQueries: true
Raster Type Infos:
Name: Raster Dataset
Description: Supports all ArcGIS Raster Datasets
Help:
Has Raster Attribute Table: false
Edit Fields Info: null
Ownership Based AccessControl For Rasters: null
Child Resources:
Info
Histograms
Statistics
Key Properties
Legend
Raster Function Infos
Supported Operations:
Export Image
Identify
Measure
Compute Histograms
Compute Statistics Histograms
Get Samples
Compute Class Statistics
Query Boundary
Compute Pixel Location
Compute Angles
Validate
Project