{
 "currentVersion": 11.3,
 "serviceDescription": "wo_nfs_gtac-Daymet_Seasonal_Precipitation",
 "name": "wo_nfs_gtac/Daymet_Seasonal_Precipitation",
 "description": "wo_nfs_gtac-Daymet_Seasonal_Precipitation",
 "extent": {
  "xmin": -3327000,
  "ymin": 263000,
  "xmax": 2564000,
  "ymax": 5111000,
  "spatialReference": {
   "wkid": 5070,
   "latestWkid": 5070
  }
 },
 "initialExtent": {
  "xmin": -3327000,
  "ymin": 263000,
  "xmax": 2564000,
  "ymax": 5111000,
  "spatialReference": {
   "wkid": 5070,
   "latestWkid": 5070
  }
 },
 "fullExtent": {
  "xmin": -3327000,
  "ymin": 263000,
  "xmax": 2564000,
  "ymax": 5111000,
  "spatialReference": {
   "wkid": 5070,
   "latestWkid": 5070
  }
 },
 "sortableFields": "",
 "bandCount": 4,
 "pixelType": "S32",
 "minValues": [
  151,
  32,
  7,
  133
 ],
 "maxValues": [
  26057,
  13653,
  16781,
  24915
 ],
 "meanValues": [
  2236.3253623332,
  2589.2989578316,
  2491.7847391734,
  2436.3156733672
 ],
 "stdvValues": [
  1941.935248723,
  1329.8966523403,
  1573.2841672333,
  1990.4498619647
 ],
 "hasMultidimensions": false,
 "pixelSizeX": 1000,
 "pixelSizeY": 1000,
 "meanPixelSize": 1000,
 "datasetFormat": "TIFF",
 "uncompressedSize": 456953088,
 "blockWidth": 128,
 "blockHeight": 128,
 "compressionType": "LZW",
 "bandNames": [
  "winter",
  "spring",
  "summer",
  "fall"
 ],
 "allowCopy": true,
 "allowAnalysis": true,
 "itemAccess": false,
 "inspectionCapabilities": "",
 "noDataValue": -32767,
 "noDataValues": [
  -32767,
  -32767,
  -32767,
  -32767
 ],
 "minPixelSize": 0,
 "maxPixelSize": 0,
 "copyrightText": "",
 "serviceDataType": "esriImageServiceDataTypeGeneric",
 "serviceSourceType": "esriImageServiceSourceTypeDataset",
 "objectIdField": "",
 "fields": [],
 "capabilities": "Image,Metadata,Mensuration",
 "defaultMosaicMethod": "Center",
 "allowedMosaicMethods": "",
 "sortField": "",
 "sortValue": null,
 "sortAscending": true,
 "mosaicOperator": "First",
 "maxDownloadSizeLimit": 2097196,
 "defaultCompressionQuality": 75,
 "defaultResamplingMethod": "Bilinear",
 "maxImageHeight": 4100,
 "maxImageWidth": 15000,
 "allowRasterFunction": true,
 "rasterFunctionInfos": [
  {
   "name": "None",
   "description": "",
   "help": ""
  }
 ],
 "rasterTypeInfos": [
  {
   "name": "Raster Dataset",
   "description": "Supports all ArcGIS Raster Datasets",
   "help": ""
  }
 ],
 "mensurationCapabilities": "Basic",
 "hasHistograms": true,
 "hasColormap": false,
 "hasRasterAttributeTable": false,
 "minScale": 0,
 "maxScale": 0,
 "exportTilesAllowed": false,
 "supportsStatistics": false,
 "supportsAdvancedQueries": false,
 "editFieldsInfo": null,
 "ownershipBasedAccessControlForRasters": null,
 "allowComputeTiePoints": false,
 "useStandardizedQueries": true,
 "advancedQueryCapabilities": {
  "useStandardizedQueries": true,
  "supportsStatistics": false,
  "supportsOrderBy": false,
  "supportsDistinct": false,
  "supportsPagination": false
 },
 "spatialReference": {
  "wkid": 5070,
  "latestWkid": 5070
 }
}
