View In:
ArcGIS JavaScript
ArcGIS Online Map Viewer
ArcGIS Earth
Service Description: wo_nfs_gstc/WO_OSC_CRV_MatureAndOldGrowth_FireshedMatureAndOldGrowthAreaFederalLandsOnly
Name: wo_nfs_gstc/WO_OSC_CRV_MatureAndOldGrowth_FireshedMatureAndOldGrowthAreaFederalLandsOnly
Description:
Single Fused Map Cache: false
Extent:
XMin: -3140520.6632000003
YMin: 757285.1419000002
XMax: 2019239.3367999997
YMax: 5464885.1419
Spatial Reference: 5070
(5070)
LatestVCSWkid(0)
Initial Extent:
XMin: -3140520.6632000003
YMin: 757285.1419000002
XMax: 2019239.3367999997
YMax: 5464885.1419
Spatial Reference: 5070
(5070)
LatestVCSWkid(0)
Full Extent:
XMin: -3140520.6632000003
YMin: 757285.1419000002
XMax: 2019239.3367999997
YMax: 5464885.1419
Spatial Reference: 5070
(5070)
LatestVCSWkid(0)
Pixel Size X: 240.0
Pixel Size Y: 240.0
Band Count: 1
Pixel Type: U4
RasterFunction Infos: {"rasterFunctionInfos": [{
"name": "None",
"description": "",
"help": ""
}]}
Mensuration Capabilities: Basic
Inspection Capabilities:
Has Histograms: true
Has Colormap: false
Has Multi Dimensions : false
Rendering Rule:
Min Scale: 0
Max Scale: 0
Copyright Text:
Service Data Type: esriImageServiceDataTypeThematic
Min Values: 1
Max Values: 9
Mean Values: 2.964710034488138
Standard Deviation Values: 1.9668673337955054
Object ID Field:
Fields:
None
Default Mosaic Method: Center
Allowed Mosaic Methods:
SortField:
SortValue: null
Mosaic Operator: First
Default Compression Quality: 75
Default Resampling Method: Nearest
Max Record Count: null
Max Image Height: 4100
Max Image Width: 15000
Max Download Image Count: null
Max Mosaic Image Count: null
Allow Raster Function: true
Allow Copy: true
Allow Analysis: true
Allow Compute TiePoints: false
Supports Statistics: false
Supports Advanced Queries: false
Use StandardizedQueries: true
Raster Type Infos:
Name: Raster Dataset
Description: Supports all ArcGIS Raster Datasets
Help:
Has Raster Attribute Table: true
Edit Fields Info: null
Ownership Based AccessControl For Rasters: null
Child Resources:
Info
Raster Attribute Table
Histograms
Statistics
Key Properties
Legend
Raster Function Infos
Supported Operations:
Export Image
Identify
Measure
Compute Histograms
Compute Statistics Histograms
Get Samples
Compute Class Statistics
Query Boundary
Compute Pixel Location
Compute Angles
Validate
Project