{
 "currentVersion": 11.3,
 "serviceDescription": "wo_nfs_gstc/WO_OSC_CRV_MatureAndOldGrowth_FireshedMatureAndOldGrowthAreaFederalLandsOnly",
 "name": "wo_nfs_gstc/WO_OSC_CRV_MatureAndOldGrowth_FireshedMatureAndOldGrowthAreaFederalLandsOnly",
 "description": "",
 "extent": {
  "xmin": -3140520.6632000003,
  "ymin": 757285.1419000002,
  "xmax": 2019239.3367999997,
  "ymax": 5464885.1419,
  "spatialReference": {
   "wkid": 5070,
   "latestWkid": 5070
  }
 },
 "initialExtent": {
  "xmin": -3140520.6632000003,
  "ymin": 757285.1419000002,
  "xmax": 2019239.3367999997,
  "ymax": 5464885.1419,
  "spatialReference": {
   "wkid": 5070,
   "latestWkid": 5070
  }
 },
 "fullExtent": {
  "xmin": -3140520.6632000003,
  "ymin": 757285.1419000002,
  "xmax": 2019239.3367999997,
  "ymax": 5464885.1419,
  "spatialReference": {
   "wkid": 5070,
   "latestWkid": 5070
  }
 },
 "sortableFields": "",
 "bandCount": 1,
 "pixelType": "U4",
 "minValues": [
  1
 ],
 "maxValues": [
  9
 ],
 "meanValues": [
  2.964710034488138
 ],
 "stdvValues": [
  1.9668673337955054
 ],
 "hasMultidimensions": false,
 "pixelSizeX": 240,
 "pixelSizeY": 240,
 "meanPixelSize": 240,
 "datasetFormat": "FGDBR",
 "uncompressedSize": 210851443,
 "blockWidth": 128,
 "blockHeight": 128,
 "compressionType": "NONE",
 "bandNames": [
  "Band_1"
 ],
 "allowCopy": true,
 "allowAnalysis": true,
 "itemAccess": false,
 "inspectionCapabilities": "",
 "minPixelSize": 0,
 "maxPixelSize": 0,
 "copyrightText": "",
 "serviceDataType": "esriImageServiceDataTypeThematic",
 "serviceSourceType": "esriImageServiceSourceTypeDataset",
 "objectIdField": "",
 "fields": [],
 "capabilities": "Image,Metadata,Mensuration",
 "defaultMosaicMethod": "Center",
 "allowedMosaicMethods": "",
 "sortField": "",
 "sortValue": null,
 "sortAscending": true,
 "mosaicOperator": "First",
 "defaultCompressionQuality": 75,
 "defaultResamplingMethod": "Nearest",
 "maxImageHeight": 4100,
 "maxImageWidth": 15000,
 "allowRasterFunction": true,
 "rasterFunctionInfos": [
  {
   "name": "None",
   "description": "",
   "help": ""
  }
 ],
 "rasterTypeInfos": [
  {
   "name": "Raster Dataset",
   "description": "Supports all ArcGIS Raster Datasets",
   "help": ""
  }
 ],
 "mensurationCapabilities": "Basic",
 "hasHistograms": true,
 "hasColormap": false,
 "hasRasterAttributeTable": true,
 "minScale": 0,
 "maxScale": 0,
 "exportTilesAllowed": false,
 "supportsStatistics": false,
 "supportsAdvancedQueries": false,
 "editFieldsInfo": null,
 "ownershipBasedAccessControlForRasters": null,
 "allowComputeTiePoints": false,
 "useStandardizedQueries": true,
 "advancedQueryCapabilities": {
  "useStandardizedQueries": true,
  "supportsStatistics": false,
  "supportsOrderBy": false,
  "supportsDistinct": false,
  "supportsPagination": false
 },
 "spatialReference": {
  "wkid": 5070,
  "latestWkid": 5070
 }
}
