View In:
ArcGIS JavaScript
ArcGIS Online Map Viewer
ArcGIS Earth
Service Description: wo_nfs_gstc/WO_OSC_CRV_Climate_MultidecadalRepeatDrynessExposureIndex
Name: wo_nfs_gstc/WO_OSC_CRV_Climate_MultidecadalRepeatDrynessExposureIndex
Description:
Single Fused Map Cache: false
Extent:
XMin: -2359775.1796000004
YMin: 262317.0621999996
XMax: 2260224.8203999996
YMax: 3179317.0621999996
Spatial Reference: 102965
(6350)
LatestVCSWkid(0)
Initial Extent:
XMin: -2359775.1796000004
YMin: 262317.0621999996
XMax: 2260224.8203999996
YMax: 3179317.0621999996
Spatial Reference: 102965
(6350)
LatestVCSWkid(0)
Full Extent:
XMin: -2359775.1796000004
YMin: 262317.0621999996
XMax: 2260224.8203999996
YMax: 3179317.0621999996
Spatial Reference: 102965
(6350)
LatestVCSWkid(0)
Pixel Size X: 1000.0
Pixel Size Y: 1000.0
Band Count: 1
Pixel Type: S8
RasterFunction Infos: {"rasterFunctionInfos": [{
"name": "None",
"description": "",
"help": ""
}]}
Mensuration Capabilities: Basic
Inspection Capabilities:
Has Histograms: true
Has Colormap: false
Has Multi Dimensions : false
Rendering Rule:
Min Scale: 0
Max Scale: 0
Copyright Text:
Service Data Type: esriImageServiceDataTypeThematic
Min Values: 0
Max Values: 71
Mean Values: 34.289652017378216
Standard Deviation Values: 10.464349918710377
Object ID Field:
Fields:
None
Default Mosaic Method: Center
Allowed Mosaic Methods:
SortField:
SortValue: null
Mosaic Operator: First
Default Compression Quality: 75
Default Resampling Method: Nearest
Max Record Count: null
Max Image Height: 4100
Max Image Width: 15000
Max Download Image Count: null
Max Mosaic Image Count: null
Allow Raster Function: true
Allow Copy: true
Allow Analysis: true
Allow Compute TiePoints: false
Supports Statistics: false
Supports Advanced Queries: false
Use StandardizedQueries: true
Raster Type Infos:
Name: Raster Dataset
Description: Supports all ArcGIS Raster Datasets
Help:
Has Raster Attribute Table: true
Edit Fields Info: null
Ownership Based AccessControl For Rasters: null
Child Resources:
Info
Raster Attribute Table
Histograms
Statistics
Key Properties
Legend
Raster Function Infos
Supported Operations:
Export Image
Identify
Measure
Compute Histograms
Compute Statistics Histograms
Get Samples
Compute Class Statistics
Query Boundary
Compute Pixel Location
Compute Angles
Validate
Project