{
 "currentVersion": 11.3,
 "serviceDescription": "wo_nfs_gstc/WO_OSC_CRV_Climate_MultidecadalRepeatDrynessExposureIndex",
 "name": "wo_nfs_gstc/WO_OSC_CRV_Climate_MultidecadalRepeatDrynessExposureIndex",
 "description": "",
 "extent": {
  "xmin": -2359775.1796000004,
  "ymin": 262317.0621999996,
  "xmax": 2260224.8203999996,
  "ymax": 3179317.0621999996,
  "spatialReference": {
   "wkid": 102965,
   "latestWkid": 6350
  }
 },
 "initialExtent": {
  "xmin": -2359775.1796000004,
  "ymin": 262317.0621999996,
  "xmax": 2260224.8203999996,
  "ymax": 3179317.0621999996,
  "spatialReference": {
   "wkid": 102965,
   "latestWkid": 6350
  }
 },
 "fullExtent": {
  "xmin": -2359775.1796000004,
  "ymin": 262317.0621999996,
  "xmax": 2260224.8203999996,
  "ymax": 3179317.0621999996,
  "spatialReference": {
   "wkid": 102965,
   "latestWkid": 6350
  }
 },
 "sortableFields": "",
 "bandCount": 1,
 "pixelType": "S8",
 "minValues": [
  0
 ],
 "maxValues": [
  71
 ],
 "meanValues": [
  34.289652017378216
 ],
 "stdvValues": [
  10.464349918710377
 ],
 "hasMultidimensions": false,
 "pixelSizeX": 1000,
 "pixelSizeY": 1000,
 "meanPixelSize": 1000,
 "datasetFormat": "FGDBR",
 "uncompressedSize": 13476540,
 "blockWidth": 128,
 "blockHeight": 128,
 "compressionType": "LZ77",
 "bandNames": [
  "Band_1"
 ],
 "allowCopy": true,
 "allowAnalysis": true,
 "itemAccess": false,
 "inspectionCapabilities": "",
 "minPixelSize": 0,
 "maxPixelSize": 0,
 "copyrightText": "",
 "serviceDataType": "esriImageServiceDataTypeThematic",
 "serviceSourceType": "esriImageServiceSourceTypeDataset",
 "objectIdField": "",
 "fields": [],
 "capabilities": "Image,Metadata,Mensuration",
 "defaultMosaicMethod": "Center",
 "allowedMosaicMethods": "",
 "sortField": "",
 "sortValue": null,
 "sortAscending": true,
 "mosaicOperator": "First",
 "defaultCompressionQuality": 75,
 "defaultResamplingMethod": "Nearest",
 "maxImageHeight": 4100,
 "maxImageWidth": 15000,
 "allowRasterFunction": true,
 "rasterFunctionInfos": [
  {
   "name": "None",
   "description": "",
   "help": ""
  }
 ],
 "rasterTypeInfos": [
  {
   "name": "Raster Dataset",
   "description": "Supports all ArcGIS Raster Datasets",
   "help": ""
  }
 ],
 "mensurationCapabilities": "Basic",
 "hasHistograms": true,
 "hasColormap": false,
 "hasRasterAttributeTable": true,
 "minScale": 0,
 "maxScale": 0,
 "exportTilesAllowed": false,
 "supportsStatistics": false,
 "supportsAdvancedQueries": false,
 "editFieldsInfo": null,
 "ownershipBasedAccessControlForRasters": null,
 "allowComputeTiePoints": false,
 "useStandardizedQueries": true,
 "advancedQueryCapabilities": {
  "useStandardizedQueries": true,
  "supportsStatistics": false,
  "supportsOrderBy": false,
  "supportsDistinct": false,
  "supportsPagination": false
 },
 "spatialReference": {
  "wkid": 102965,
  "latestWkid": 6350
 }
}
