View In:
ArcGIS JavaScript
ArcGIS Online Map Viewer
ArcGIS Earth
Service Description: wo_nfs_gstc/WO_OSC_CRV_Climate_ConsecutiveSummerDryDaysAbsoluteChange
Name: wo_nfs_gstc/WO_OSC_CRV_Climate_ConsecutiveSummerDryDaysAbsoluteChange
Description:
Single Fused Map Cache: false
Extent:
XMin: -124.79299672444633
YMin: 25.0418561299644
XMax: -67.0429967244467
YMax: 49.416856129964245
Spatial Reference: 4326
(4326)
LatestVCSWkid(0)
Initial Extent:
XMin: -124.79299672444633
YMin: 25.0418561299644
XMax: -67.0429967244467
YMax: 49.416856129964245
Spatial Reference: 4326
(4326)
LatestVCSWkid(0)
Full Extent:
XMin: -124.79299672444633
YMin: 25.0418561299644
XMax: -67.0429967244467
YMax: 49.416856129964245
Spatial Reference: 4326
(4326)
LatestVCSWkid(0)
Pixel Size X: 0.0416666666666664
Pixel Size Y: 0.0416666666666664
Band Count: 1
Pixel Type: S16
RasterFunction Infos: {"rasterFunctionInfos": [{
"name": "None",
"description": "",
"help": ""
}]}
Mensuration Capabilities: Basic
Inspection Capabilities:
Has Histograms: true
Has Colormap: false
Has Multi Dimensions : false
Rendering Rule:
Min Scale: 0
Max Scale: 0
Copyright Text:
Service Data Type: esriImageServiceDataTypeThematic
Min Values: -113
Max Values: 142
Mean Values: 24.830941206375975
Standard Deviation Values: 21.50569176425348
Object ID Field:
Fields:
None
Default Mosaic Method: Center
Allowed Mosaic Methods:
SortField:
SortValue: null
Mosaic Operator: First
Default Compression Quality: 75
Default Resampling Method: Nearest
Max Record Count: null
Max Image Height: 4100
Max Image Width: 15000
Max Download Image Count: null
Max Mosaic Image Count: null
Allow Raster Function: true
Allow Copy: true
Allow Analysis: true
Allow Compute TiePoints: false
Supports Statistics: false
Supports Advanced Queries: false
Use StandardizedQueries: true
Raster Type Infos:
Name: Raster Dataset
Description: Supports all ArcGIS Raster Datasets
Help:
Has Raster Attribute Table: true
Edit Fields Info: null
Ownership Based AccessControl For Rasters: null
Child Resources:
Info
Raster Attribute Table
Histograms
Statistics
Key Properties
Legend
Raster Function Infos
Supported Operations:
Export Image
Identify
Measure
Compute Histograms
Compute Statistics Histograms
Get Samples
Compute Class Statistics
Query Boundary
Compute Pixel Location
Compute Angles
Validate
Project