{
 "currentVersion": 11.3,
 "serviceDescription": "wo_nfs_gstc/WO_OSC_CRV_Climate_ConsecutiveSummerDryDaysAbsoluteChange",
 "name": "wo_nfs_gstc/WO_OSC_CRV_Climate_ConsecutiveSummerDryDaysAbsoluteChange",
 "description": "",
 "extent": {
  "xmin": -124.79299672444633,
  "ymin": 25.0418561299644,
  "xmax": -67.0429967244467,
  "ymax": 49.416856129964245,
  "spatialReference": {
   "wkid": 4326,
   "latestWkid": 4326
  }
 },
 "initialExtent": {
  "xmin": -124.79299672444633,
  "ymin": 25.0418561299644,
  "xmax": -67.0429967244467,
  "ymax": 49.416856129964245,
  "spatialReference": {
   "wkid": 4326,
   "latestWkid": 4326
  }
 },
 "fullExtent": {
  "xmin": -124.79299672444633,
  "ymin": 25.0418561299644,
  "xmax": -67.0429967244467,
  "ymax": 49.416856129964245,
  "spatialReference": {
   "wkid": 4326,
   "latestWkid": 4326
  }
 },
 "sortableFields": "",
 "bandCount": 1,
 "pixelType": "S16",
 "minValues": [
  -113
 ],
 "maxValues": [
  142
 ],
 "meanValues": [
  24.830941206375975
 ],
 "stdvValues": [
  21.50569176425348
 ],
 "hasMultidimensions": false,
 "pixelSizeX": 0.0416666666666664,
 "pixelSizeY": 0.0416666666666664,
 "meanPixelSize": 4638.312116386369,
 "datasetFormat": "FGDBR",
 "uncompressedSize": 1621620,
 "blockWidth": 128,
 "blockHeight": 128,
 "compressionType": "LZ77",
 "bandNames": [
  "Band_1"
 ],
 "allowCopy": true,
 "allowAnalysis": true,
 "itemAccess": false,
 "inspectionCapabilities": "",
 "minPixelSize": 0,
 "maxPixelSize": 0,
 "copyrightText": "",
 "serviceDataType": "esriImageServiceDataTypeThematic",
 "serviceSourceType": "esriImageServiceSourceTypeDataset",
 "objectIdField": "",
 "fields": [],
 "capabilities": "Image,Metadata,Mensuration",
 "defaultMosaicMethod": "Center",
 "allowedMosaicMethods": "",
 "sortField": "",
 "sortValue": null,
 "sortAscending": true,
 "mosaicOperator": "First",
 "defaultCompressionQuality": 75,
 "defaultResamplingMethod": "Nearest",
 "maxImageHeight": 4100,
 "maxImageWidth": 15000,
 "allowRasterFunction": true,
 "rasterFunctionInfos": [
  {
   "name": "None",
   "description": "",
   "help": ""
  }
 ],
 "rasterTypeInfos": [
  {
   "name": "Raster Dataset",
   "description": "Supports all ArcGIS Raster Datasets",
   "help": ""
  }
 ],
 "mensurationCapabilities": "Basic",
 "hasHistograms": true,
 "hasColormap": false,
 "hasRasterAttributeTable": true,
 "minScale": 0,
 "maxScale": 0,
 "exportTilesAllowed": false,
 "supportsStatistics": false,
 "supportsAdvancedQueries": false,
 "editFieldsInfo": null,
 "ownershipBasedAccessControlForRasters": null,
 "allowComputeTiePoints": false,
 "useStandardizedQueries": true,
 "advancedQueryCapabilities": {
  "useStandardizedQueries": true,
  "supportsStatistics": false,
  "supportsOrderBy": false,
  "supportsDistinct": false,
  "supportsPagination": false
 },
 "spatialReference": {
  "wkid": 4326,
  "latestWkid": 4326
 }
}
