View In:
ArcGIS JavaScript
ArcGIS Online Map Viewer
ArcGIS Earth
Service Description: r04-Bridger_Teton_vcmq
Name: r04/Bridger_Teton_vcmq
Description: r04-Bridger_Teton_vcmq
Single Fused Map Cache: false
Extent:
XMin: 496175.9999491162
YMin: 4664107.999857129
XMax: 674105.9999491163
YMax: 4908187.999857129
Spatial Reference: 26712
(26712)
LatestVCSWkid(0)
Initial Extent:
XMin: 496175.9999491162
YMin: 4664107.999857129
XMax: 674105.9999491163
YMax: 4908187.999857129
Spatial Reference: 26712
(26712)
LatestVCSWkid(0)
Full Extent:
XMin: 496175.9999491162
YMin: 4664107.999857129
XMax: 674105.9999491163
YMax: 4908187.999857129
Spatial Reference: 26712
(26712)
LatestVCSWkid(0)
Pixel Size X: 90.00000000000003
Pixel Size Y: 90.0
Band Count: 1
Pixel Type: S8
RasterFunction Infos: {"rasterFunctionInfos": [{
"name": "None",
"description": "",
"help": ""
}]}
Mensuration Capabilities: Basic
Inspection Capabilities:
Has Histograms: false
Has Colormap: false
Has Multi Dimensions : false
Rendering Rule:
Min Scale: 0
Max Scale: 0
Copyright Text:
Service Data Type: esriImageServiceDataTypeThematic
Min Values: 1
Max Values: 28
Mean Values: 7.524881514535506
Standard Deviation Values: 4.394460465282988
Object ID Field:
Fields:
None
Default Mosaic Method: Center
Allowed Mosaic Methods:
SortField:
SortValue: null
Mosaic Operator: First
Default Compression Quality: 75
Default Resampling Method: Bilinear
Max Record Count: null
Max Image Height: 4100
Max Image Width: 15000
Max Download Image Count: null
Max Mosaic Image Count: null
Allow Raster Function: true
Allow Copy: true
Allow Analysis: true
Allow Compute TiePoints: false
Supports Statistics: false
Supports Advanced Queries: false
Use StandardizedQueries: true
Raster Type Infos:
Name: Raster Dataset
Description: Supports all ArcGIS Raster Datasets
Help:
Has Raster Attribute Table: true
Edit Fields Info: null
Ownership Based AccessControl For Rasters: null
Child Resources:
Info
Raster Attribute Table
Statistics
Key Properties
Legend
Raster Function Infos
Supported Operations:
Export Image
Identify
Measure
Compute Histograms
Compute Statistics Histograms
Get Samples
Compute Class Statistics
Query Boundary
Compute Pixel Location
Compute Angles
Validate
Project