{
 "currentVersion": 11.3,
 "serviceDescription": "r04-Bridger_Teton_vcmq",
 "name": "r04/Bridger_Teton_vcmq",
 "description": "r04-Bridger_Teton_vcmq",
 "extent": {
  "xmin": 496175.9999491162,
  "ymin": 4664107.999857129,
  "xmax": 674105.9999491163,
  "ymax": 4908187.999857129,
  "spatialReference": {
   "wkid": 26712,
   "latestWkid": 26712
  }
 },
 "initialExtent": {
  "xmin": 496175.9999491162,
  "ymin": 4664107.999857129,
  "xmax": 674105.9999491163,
  "ymax": 4908187.999857129,
  "spatialReference": {
   "wkid": 26712,
   "latestWkid": 26712
  }
 },
 "fullExtent": {
  "xmin": 496175.9999491162,
  "ymin": 4664107.999857129,
  "xmax": 674105.9999491163,
  "ymax": 4908187.999857129,
  "spatialReference": {
   "wkid": 26712,
   "latestWkid": 26712
  }
 },
 "sortableFields": "",
 "bandCount": 1,
 "pixelType": "S8",
 "minValues": [
  1
 ],
 "maxValues": [
  28
 ],
 "meanValues": [
  7.524881514535506
 ],
 "stdvValues": [
  4.394460465282988
 ],
 "hasMultidimensions": false,
 "pixelSizeX": 90.00000000000003,
 "pixelSizeY": 90,
 "meanPixelSize": 90.00000000000001,
 "datasetFormat": "GRID",
 "uncompressedSize": 5361624,
 "blockWidth": 256,
 "blockHeight": 16,
 "compressionType": "RLE",
 "bandNames": [
  "VCMQ"
 ],
 "allowCopy": true,
 "allowAnalysis": true,
 "itemAccess": false,
 "inspectionCapabilities": "",
 "noDataValue": -128,
 "noDataValues": [
  -128
 ],
 "minPixelSize": 0,
 "maxPixelSize": 0,
 "copyrightText": "",
 "serviceDataType": "esriImageServiceDataTypeThematic",
 "serviceSourceType": "esriImageServiceSourceTypeDataset",
 "objectIdField": "",
 "fields": [],
 "capabilities": "Image,Metadata,Mensuration",
 "defaultMosaicMethod": "Center",
 "allowedMosaicMethods": "",
 "sortField": "",
 "sortValue": null,
 "sortAscending": true,
 "mosaicOperator": "First",
 "maxDownloadSizeLimit": 2097196,
 "defaultCompressionQuality": 75,
 "defaultResamplingMethod": "Bilinear",
 "maxImageHeight": 4100,
 "maxImageWidth": 15000,
 "allowRasterFunction": true,
 "rasterFunctionInfos": [
  {
   "name": "None",
   "description": "",
   "help": ""
  }
 ],
 "rasterTypeInfos": [
  {
   "name": "Raster Dataset",
   "description": "Supports all ArcGIS Raster Datasets",
   "help": ""
  }
 ],
 "mensurationCapabilities": "Basic",
 "hasHistograms": false,
 "hasColormap": false,
 "hasRasterAttributeTable": true,
 "minScale": 0,
 "maxScale": 0,
 "exportTilesAllowed": false,
 "supportsStatistics": false,
 "supportsAdvancedQueries": false,
 "editFieldsInfo": null,
 "ownershipBasedAccessControlForRasters": null,
 "allowComputeTiePoints": false,
 "useStandardizedQueries": true,
 "advancedQueryCapabilities": {
  "useStandardizedQueries": true,
  "supportsStatistics": false,
  "supportsOrderBy": false,
  "supportsDistinct": false,
  "supportsPagination": false
 },
 "spatialReference": {
  "wkid": 26712,
  "latestWkid": 26712
 }
}
