View In:
ArcGIS JavaScript
ArcGIS Online Map Viewer
ArcGIS Earth
Service Description: Raster layer of pixels that burned once in the period 1990-2020 in southern California extracted from RAVG data https://fsapps.nwcg.gov/ravg/ and FRID data https://www.fs.fed.us/psw/publications/documents/psw_rp266/USDA Forest Service Western Wildlands Env. Threat Assessment Center
Name: wwetac/SEVA_ravg_1990_2020_Year_burned_1x
Description: Raster layer of pixels that burned once in the period 1990-2020 in southern California extracted from RAVG data https://fsapps.nwcg.gov/ravg/ and FRID data https://www.fs.fed.us/psw/publications/documents/psw_rp266/USDA Forest Service Western Wildlands Env. Threat Assessment Center
Single Fused Map Cache: false
Extent:
XMin: -126.21862735499501
YMin: 29.89642997296317
XMax: -113.55518626746016
YMax: 39.06204727287447
Spatial Reference: 4326
(4326)
LatestVCSWkid(0)
Initial Extent:
XMin: -126.21862735499501
YMin: 29.89642997296317
XMax: -113.55518626746016
YMax: 39.06204727287447
Spatial Reference: 4326
(4326)
LatestVCSWkid(0)
Full Extent:
XMin: -126.21862735499501
YMin: 29.89642997296317
XMax: -113.55518626746016
YMax: 39.06204727287447
Spatial Reference: 4326
(4326)
LatestVCSWkid(0)
Pixel Size X: 3.170616196177979E-4
Pixel Size Y: 3.17061619617798E-4
Band Count: 1
Pixel Type: U16
RasterFunction Infos: {"rasterFunctionInfos": [{
"name": "None",
"description": "",
"help": ""
}]}
Mensuration Capabilities: Basic
Inspection Capabilities:
Has Histograms: true
Has Colormap: false
Has Multi Dimensions : false
Rendering Rule:
Min Scale: 0
Max Scale: 0
Copyright Text:
Service Data Type: esriImageServiceDataTypeGeneric
Min Values: 1990
Max Values: 65535
Mean Values: 64737.88041459
Standard Deviation Values: 7071.2076322757
Object ID Field:
Fields:
None
Default Mosaic Method: Center
Allowed Mosaic Methods:
SortField:
SortValue: null
Mosaic Operator: First
Default Compression Quality: 75
Default Resampling Method: Bilinear
Max Record Count: null
Max Image Height: 4100
Max Image Width: 15000
Max Download Image Count: null
Max Mosaic Image Count: null
Allow Raster Function: true
Allow Copy: true
Allow Analysis: true
Allow Compute TiePoints: false
Supports Statistics: false
Supports Advanced Queries: false
Use StandardizedQueries: true
Raster Type Infos:
Name: Raster Dataset
Description: Supports all ArcGIS Raster Datasets
Help:
Has Raster Attribute Table: true
Edit Fields Info: null
Ownership Based AccessControl For Rasters: null
Child Resources:
Info
Raster Attribute Table
Histograms
Statistics
Key Properties
Legend
Raster Function Infos
Supported Operations:
Export Image
Identify
Measure
Compute Histograms
Compute Statistics Histograms
Get Samples
Compute Class Statistics
Query Boundary
Compute Pixel Location
Compute Angles
Validate
Project