{
 "currentVersion": 11.3,
 "serviceDescription": "Raster layer of pixels that burned once in the period 1990-2020 in southern California extracted from RAVG data https://fsapps.nwcg.gov/ravg/ and FRID data https://www.fs.fed.us/psw/publications/documents/psw_rp266/USDA Forest Service Western Wildlands Env. Threat Assessment Center",
 "name": "wwetac/SEVA_ravg_1990_2020_Year_burned_1x",
 "description": "Raster layer of pixels that burned once in the period 1990-2020 in southern California extracted from RAVG data https://fsapps.nwcg.gov/ravg/ and FRID data https://www.fs.fed.us/psw/publications/documents/psw_rp266/USDA Forest Service Western Wildlands Env. Threat Assessment Center",
 "extent": {
  "xmin": -126.21862735499501,
  "ymin": 29.89642997296317,
  "xmax": -113.55518626746016,
  "ymax": 39.06204727287447,
  "spatialReference": {
   "wkid": 4326,
   "latestWkid": 4326
  }
 },
 "initialExtent": {
  "xmin": -126.21862735499501,
  "ymin": 29.89642997296317,
  "xmax": -113.55518626746016,
  "ymax": 39.06204727287447,
  "spatialReference": {
   "wkid": 4326,
   "latestWkid": 4326
  }
 },
 "fullExtent": {
  "xmin": -126.21862735499501,
  "ymin": 29.89642997296317,
  "xmax": -113.55518626746016,
  "ymax": 39.06204727287447,
  "spatialReference": {
   "wkid": 4326,
   "latestWkid": 4326
  }
 },
 "sortableFields": "",
 "bandCount": 1,
 "pixelType": "U16",
 "minValues": [
  1990
 ],
 "maxValues": [
  65535
 ],
 "meanValues": [
  64737.88041459
 ],
 "stdvValues": [
  7071.2076322757
 ],
 "hasMultidimensions": false,
 "pixelSizeX": 3.170616196177979E-4,
 "pixelSizeY": 3.17061619617798E-4,
 "meanPixelSize": 35.29513804594386,
 "datasetFormat": "TIFF",
 "uncompressedSize": 2309171040,
 "blockWidth": 128,
 "blockHeight": 128,
 "compressionType": "None",
 "bandNames": [
  "Band_1"
 ],
 "allowCopy": true,
 "allowAnalysis": true,
 "itemAccess": false,
 "inspectionCapabilities": "",
 "noDataValue": -1,
 "noDataValues": [
  -1
 ],
 "minPixelSize": 0,
 "maxPixelSize": 0,
 "copyrightText": "",
 "serviceDataType": "esriImageServiceDataTypeGeneric",
 "serviceSourceType": "esriImageServiceSourceTypeDataset",
 "objectIdField": "",
 "fields": [],
 "capabilities": "Image,Metadata,Mensuration",
 "defaultMosaicMethod": "Center",
 "allowedMosaicMethods": "",
 "sortField": "",
 "sortValue": null,
 "sortAscending": true,
 "mosaicOperator": "First",
 "maxDownloadSizeLimit": 2097196,
 "defaultCompressionQuality": 75,
 "defaultResamplingMethod": "Bilinear",
 "maxImageHeight": 4100,
 "maxImageWidth": 15000,
 "allowRasterFunction": true,
 "rasterFunctionInfos": [
  {
   "name": "None",
   "description": "",
   "help": ""
  }
 ],
 "rasterTypeInfos": [
  {
   "name": "Raster Dataset",
   "description": "Supports all ArcGIS Raster Datasets",
   "help": ""
  }
 ],
 "mensurationCapabilities": "Basic",
 "hasHistograms": true,
 "hasColormap": false,
 "hasRasterAttributeTable": true,
 "minScale": 0,
 "maxScale": 0,
 "exportTilesAllowed": false,
 "supportsStatistics": false,
 "supportsAdvancedQueries": false,
 "editFieldsInfo": null,
 "ownershipBasedAccessControlForRasters": null,
 "allowComputeTiePoints": false,
 "useStandardizedQueries": true,
 "advancedQueryCapabilities": {
  "useStandardizedQueries": true,
  "supportsStatistics": false,
  "supportsOrderBy": false,
  "supportsDistinct": false,
  "supportsPagination": false
 },
 "spatialReference": {
  "wkid": 4326,
  "latestWkid": 4326
 }
}
