View In:
ArcGIS JavaScript
ArcGIS Online Map Viewer
ArcGIS Earth
Service Description: Above ground life biomass in kg/m2 for southern California in 2021. Schrader-Patton and Underwood, 2021.
Name: wwetac/AGLBM_2021
Description: Above ground life biomass in kg/m2 for southern California in 2021. Schrader-Patton and Underwood, 2021.
Single Fused Map Cache: false
Extent:
XMin: -121.96127857773591
YMin: 32.4711991595631
XMax: -115.02079972430235
YMax: 36.78894429551825
Spatial Reference: 4326
(4326)
LatestVCSWkid(0)
Initial Extent:
XMin: -121.96127857773591
YMin: 32.4711991595631
XMax: -115.02079972430235
YMax: 36.78894429551825
Spatial Reference: 4326
(4326)
LatestVCSWkid(0)
Full Extent:
XMin: -121.96127857773591
YMin: 32.4711991595631
XMax: -115.02079972430235
YMax: 36.78894429551825
Spatial Reference: 4326
(4326)
LatestVCSWkid(0)
Pixel Size X: 3.170616196177963E-4
Pixel Size Y: 3.170616196177963E-4
Band Count: 1
Pixel Type: F32
RasterFunction Infos: {"rasterFunctionInfos": [{
"name": "None",
"description": "",
"help": ""
}]}
Mensuration Capabilities: Basic
Inspection Capabilities:
Has Histograms: false
Has Colormap: false
Has Multi Dimensions : false
Rendering Rule:
Min Scale: 0
Max Scale: 0
Copyright Text:
Service Data Type: esriImageServiceDataTypeGeneric
Min Values: 0.0065257744863629
Max Values: 16.973932266235
Mean Values: 0.88139659328675
Standard Deviation Values: 1.2384535033548
Object ID Field:
Fields:
None
Default Mosaic Method: Center
Allowed Mosaic Methods:
SortField:
SortValue: null
Mosaic Operator: First
Default Compression Quality: 75
Default Resampling Method: Bilinear
Max Record Count: null
Max Image Height: 4100
Max Image Width: 15000
Max Download Image Count: null
Max Mosaic Image Count: null
Allow Raster Function: true
Allow Copy: true
Allow Analysis: true
Allow Compute TiePoints: false
Supports Statistics: false
Supports Advanced Queries: false
Use StandardizedQueries: true
Raster Type Infos:
Name: Raster Dataset
Description: Supports all ArcGIS Raster Datasets
Help:
Has Raster Attribute Table: false
Edit Fields Info: null
Ownership Based AccessControl For Rasters: null
Child Resources:
Info
Statistics
Key Properties
Legend
Raster Function Infos
Supported Operations:
Export Image
Identify
Measure
Compute Histograms
Compute Statistics Histograms
Get Samples
Compute Class Statistics
Query Boundary
Compute Pixel Location
Compute Angles
Validate
Project