{
 "currentVersion": 11.3,
 "serviceDescription": "Above ground life biomass in kg/m2 for southern California in 2021. Schrader-Patton and Underwood, 2021.",
 "name": "wwetac/AGLBM_2021",
 "description": "Above ground life biomass in kg/m2 for southern California in 2021. Schrader-Patton and Underwood, 2021.",
 "extent": {
  "xmin": -121.96127857773591,
  "ymin": 32.4711991595631,
  "xmax": -115.02079972430235,
  "ymax": 36.78894429551825,
  "spatialReference": {
   "wkid": 4326,
   "latestWkid": 4326
  }
 },
 "initialExtent": {
  "xmin": -121.96127857773591,
  "ymin": 32.4711991595631,
  "xmax": -115.02079972430235,
  "ymax": 36.78894429551825,
  "spatialReference": {
   "wkid": 4326,
   "latestWkid": 4326
  }
 },
 "fullExtent": {
  "xmin": -121.96127857773591,
  "ymin": 32.4711991595631,
  "xmax": -115.02079972430235,
  "ymax": 36.78894429551825,
  "spatialReference": {
   "wkid": 4326,
   "latestWkid": 4326
  }
 },
 "sortableFields": "",
 "bandCount": 1,
 "pixelType": "F32",
 "minValues": [
  0.0065257744863629
 ],
 "maxValues": [
  16.973932266235
 ],
 "meanValues": [
  0.88139659328675
 ],
 "stdvValues": [
  1.2384535033548
 ],
 "hasMultidimensions": false,
 "pixelSizeX": 3.170616196177963E-4,
 "pixelSizeY": 3.170616196177963E-4,
 "meanPixelSize": 35.29513804594368,
 "datasetFormat": "TIFF",
 "uncompressedSize": 1192392080,
 "blockWidth": 128,
 "blockHeight": 128,
 "compressionType": "None",
 "bandNames": [
  "Band_1"
 ],
 "allowCopy": true,
 "allowAnalysis": true,
 "itemAccess": false,
 "inspectionCapabilities": "",
 "noDataValue": -3.4028234663852886E38,
 "noDataValues": [
  -3.4028234663852886E38
 ],
 "minPixelSize": 0,
 "maxPixelSize": 0,
 "copyrightText": "",
 "serviceDataType": "esriImageServiceDataTypeGeneric",
 "serviceSourceType": "esriImageServiceSourceTypeDataset",
 "objectIdField": "",
 "fields": [],
 "capabilities": "Image,Metadata,Mensuration",
 "defaultMosaicMethod": "Center",
 "allowedMosaicMethods": "",
 "sortField": "",
 "sortValue": null,
 "sortAscending": true,
 "mosaicOperator": "First",
 "maxDownloadSizeLimit": 2097196,
 "defaultCompressionQuality": 75,
 "defaultResamplingMethod": "Bilinear",
 "maxImageHeight": 4100,
 "maxImageWidth": 15000,
 "allowRasterFunction": true,
 "rasterFunctionInfos": [
  {
   "name": "None",
   "description": "",
   "help": ""
  }
 ],
 "rasterTypeInfos": [
  {
   "name": "Raster Dataset",
   "description": "Supports all ArcGIS Raster Datasets",
   "help": ""
  }
 ],
 "mensurationCapabilities": "Basic",
 "hasHistograms": false,
 "hasColormap": false,
 "hasRasterAttributeTable": false,
 "minScale": 0,
 "maxScale": 0,
 "exportTilesAllowed": false,
 "supportsStatistics": false,
 "supportsAdvancedQueries": false,
 "editFieldsInfo": null,
 "ownershipBasedAccessControlForRasters": null,
 "allowComputeTiePoints": false,
 "useStandardizedQueries": true,
 "advancedQueryCapabilities": {
  "useStandardizedQueries": true,
  "supportsStatistics": false,
  "supportsOrderBy": false,
  "supportsDistinct": false,
  "supportsPagination": false
 },
 "spatialReference": {
  "wkid": 4326,
  "latestWkid": 4326
 }
}
