View In:
ArcGIS JavaScript
ArcGIS Online Map Viewer
ArcGIS Earth
Service Description: National burn probability (BP) and conditional fire intensity level (FIL) data were generated for Alaska using a geospatial Fire Simulation (FSim) system developed by the US Forest Service Missoula Fire Sciences Laboratory to estimate probabilistic components of wildfire risk (Finney et al. [2011]). The FSim system includes modules for weather generation, wildfire occurrence, fire growth, and fire suppression. FSim is designed to simulate the occurrence and growth of wildfires under tens of thousands of hypothetical contemporary fire seasons in order to estimate the probability of a given area (i.e., pixel) burning under current landscape conditions and fire management practices. The data presented here represent modeled BP and FIL for the conterminous US at a 270-meter grid spatial resolution. The six FILs correspond to flame-length classes as follows: FIL1 = < 2 feet (ft); FIL2 = 2 < 4 ft.; FIL3 = 4 < 6 ft.; FIL4 = 6 < 8 ft.; FIL5 = 8 < 12 ft.; FIL6 = 12+ ft. Because they indicate conditional probabilities (i.e., representing the likelihood of burning at a certain intensity level, given that a fire occurs), the FIL*_20160830 data must be used in conjunction with the BP_20160830 data for risk assessment.
Name: RDW_Wildfire/RMRS_ProbabilisticWildfireRisk_BurnProbability_AK
Description: National burn probability (BP) and conditional fire intensity level (FIL) data were generated for Alaska using a geospatial Fire Simulation (FSim) system developed by the US Forest Service Missoula Fire Sciences Laboratory to estimate probabilistic components of wildfire risk (Finney et al. [2011]). The FSim system includes modules for weather generation, wildfire occurrence, fire growth, and fire suppression. FSim is designed to simulate the occurrence and growth of wildfires under tens of thousands of hypothetical contemporary fire seasons in order to estimate the probability of a given area (i.e., pixel) burning under current landscape conditions and fire management practices. The data presented here represent modeled BP and FIL for the conterminous US at a 270-meter grid spatial resolution. The six FILs correspond to flame-length classes as follows: FIL1 = < 2 feet (ft); FIL2 = 2 < 4 ft.; FIL3 = 4 < 6 ft.; FIL4 = 6 < 8 ft.; FIL5 = 8 < 12 ft.; FIL6 = 12+ ft. Because they indicate conditional probabilities (i.e., representing the likelihood of burning at a certain intensity level, given that a fire occurs), the FIL*_20160830 data must be used in conjunction with the BP_20160830 data for risk assessment.
Single Fused Map Cache: false
Extent:
XMin: -2189925.0
YMin: 389535.0001220703
XMax: 1548495.0
YMax: 2395635.0001220703
Spatial Reference: 102006
(3338)
LatestVCSWkid(0)
Initial Extent:
XMin: -2189925.0
YMin: 389535.0001220703
XMax: 1548495.0
YMax: 2395635.0001220703
Spatial Reference: 102006
(3338)
LatestVCSWkid(0)
Full Extent:
XMin: -2189925.0
YMin: 389535.0001220703
XMax: 1548495.0
YMax: 2395635.0001220703
Spatial Reference: 102006
(3338)
LatestVCSWkid(0)
Pixel Size X: 270.0
Pixel Size Y: 270.0
Band Count: 1
Pixel Type: S32
RasterFunction Infos: {"rasterFunctionInfos": [
{
"name": "BurnProbability",
"description": "raster function template",
"help": ""
},
{
"name": "None",
"description": "Make a Raster or Raster Dataset into a Function Raster Dataset.",
"help": ""
}
]}
Mensuration Capabilities: Basic
Inspection Capabilities:
Has Histograms: true
Has Colormap: false
Has Multi Dimensions : false
Rendering Rule:
Min Scale: 0
Max Scale: 0
Resampling: false
Copyright Text: USDA Forest Service, Rocky Mountain Research Station, Missoula Fire Sciences Laboratory This contact information was current as original publication date. For current information see Contact Us page on: https://doi.org/10.2737/RDS.
Service Data Type: esriImageServiceDataTypeThematic
Min Values: 0
Max Values: 46650
Mean Values: 2827.0142801669
Standard Deviation Values: 5607.5531459716
Object ID Field:
Fields:
None
Default Mosaic Method: Center
Allowed Mosaic Methods:
SortField:
SortValue: null
Mosaic Operator: First
Default Compression Quality: 75
Default Resampling Method: Nearest
Max Record Count: null
Max Image Height: 50000
Max Image Width: 50000
Max Download Image Count: null
Max Mosaic Image Count: null
Allow Raster Function: true
Allow Copy: true
Allow Analysis: true
Allow Compute TiePoints: false
Supports Statistics: false
Supports Advanced Queries: false
Use StandardizedQueries: true
Raster Type Infos:
Name: Raster Dataset
Description: Supports all ArcGIS Raster Datasets
Help:
Has Raster Attribute Table: false
Edit Fields Info: null
Ownership Based AccessControl For Rasters: null
Child Resources:
Info
Histograms
Statistics
Key Properties
Legend
Raster Function Infos
Supported Operations:
Export Image
Identify
Measure
Compute Histograms
Compute Statistics Histograms
Get Samples
Compute Class Statistics
Query Boundary
Compute Pixel Location
Compute Angles
Validate
Project