{ "currentVersion": 11.3, "serviceDescription": "
National burn probability (BP) and conditional fire intensity level (FIL) data were generated for Alaska using a geospatial Fire Simulation (FSim) system developed by the US Forest Service Missoula Fire Sciences Laboratory to estimate probabilistic components of wildfire risk (Finney et al. [2011]). The FSim system includes modules for weather generation, wildfire occurrence, fire growth, and fire suppression. FSim is designed to simulate the occurrence and growth of wildfires under tens of thousands of hypothetical contemporary fire seasons in order to estimate the probability of a given area (i.e., pixel) burning under current landscape conditions and fire management practices. The data presented here represent modeled BP and FIL for the conterminous US at a 270-meter grid spatial resolution. The six FILs correspond to flame-length classes as follows: FIL1 = < 2 feet (ft); FIL2 = 2 < 4 ft.; FIL3 = 4 < 6 ft.; FIL4 = 6 < 8 ft.; FIL5 = 8 < 12 ft.; FIL6 = 12+ ft. Because they indicate conditional probabilities (i.e., representing the likelihood of burning at a certain intensity level, given that a fire occurs), the FIL*_20160830 data must be used in conjunction with the BP_20160830 data for risk assessment.<\/span><\/p><\/div><\/div><\/div>",
"name": "RDW_Wildfire/RMRS_ProbabilisticWildfireRisk_BurnProbability_AK",
"description": " National burn probability (BP) and conditional fire intensity level (FIL) data were generated for Alaska using a geospatial Fire Simulation (FSim) system developed by the US Forest Service Missoula Fire Sciences Laboratory to estimate probabilistic components of wildfire risk (Finney et al. [2011]). The FSim system includes modules for weather generation, wildfire occurrence, fire growth, and fire suppression. FSim is designed to simulate the occurrence and growth of wildfires under tens of thousands of hypothetical contemporary fire seasons in order to estimate the probability of a given area (i.e., pixel) burning under current landscape conditions and fire management practices. The data presented here represent modeled BP and FIL for the conterminous US at a 270-meter grid spatial resolution. The six FILs correspond to flame-length classes as follows: FIL1 = < 2 feet (ft); FIL2 = 2 < 4 ft.; FIL3 = 4 < 6 ft.; FIL4 = 6 < 8 ft.; FIL5 = 8 < 12 ft.; FIL6 = 12+ ft. Because they indicate conditional probabilities (i.e., representing the likelihood of burning at a certain intensity level, given that a fire occurs), the FIL*_20160830 data must be used in conjunction with the BP_20160830 data for risk assessment.<\/span><\/p><\/div><\/div><\/div>",
"extent": {
"xmin": -2189925,
"ymin": 389535.0001220703,
"xmax": 1548495,
"ymax": 2395635.0001220703,
"spatialReference": {
"wkid": 102006,
"latestWkid": 3338
}
},
"initialExtent": {
"xmin": -2189925,
"ymin": 389535.0001220703,
"xmax": 1548495,
"ymax": 2395635.0001220703,
"spatialReference": {
"wkid": 102006,
"latestWkid": 3338
}
},
"fullExtent": {
"xmin": -2189925,
"ymin": 389535.0001220703,
"xmax": 1548495,
"ymax": 2395635.0001220703,
"spatialReference": {
"wkid": 102006,
"latestWkid": 3338
}
},
"sortableFields": "",
"bandCount": 1,
"pixelType": "S32",
"minValues": [
0
],
"maxValues": [
46650
],
"meanValues": [
2827.0142801669
],
"stdvValues": [
5607.5531459716
],
"hasMultidimensions": false,
"pixelSizeX": 270,
"pixelSizeY": 270,
"meanPixelSize": 270,
"datasetFormat": "TIFF",
"uncompressedSize": 411503120,
"blockWidth": 128,
"blockHeight": 128,
"compressionType": "LZW",
"bandNames": [
"Band_1"
],
"allowCopy": true,
"allowAnalysis": true,
"itemAccess": false,
"inspectionCapabilities": "",
"noDataValue": -2147483600,
"noDataValues": [
-2147483600
],
"minPixelSize": 0,
"maxPixelSize": 0,
"copyrightText": "USDA Forest Service, Rocky Mountain Research Station, Missoula Fire Sciences Laboratory This contact information was current as original publication date. For current information see Contact Us page on: https://doi.org/10.2737/RDS.",
"serviceDataType": "esriImageServiceDataTypeThematic",
"serviceSourceType": "esriImageServiceSourceTypeDataset",
"objectIdField": "",
"fields": [],
"capabilities": "Mensuration,Image,Metadata",
"defaultMosaicMethod": "Center",
"allowedMosaicMethods": "",
"sortField": "",
"sortValue": null,
"sortAscending": true,
"mosaicOperator": "First",
"defaultCompressionQuality": 75,
"defaultResamplingMethod": "Nearest",
"maxImageHeight": 50000,
"maxImageWidth": 50000,
"allowRasterFunction": true,
"rasterFunctionInfos": [
{
"name": "BurnProbability",
"description": "raster function template",
"help": ""
},
{
"name": "None",
"description": "Make a Raster or Raster Dataset into a Function Raster Dataset.",
"help": ""
}
],
"rasterTypeInfos": [
{
"name": "Raster Dataset",
"description": "Supports all ArcGIS Raster Datasets",
"help": ""
}
],
"mensurationCapabilities": "Basic",
"hasHistograms": true,
"hasColormap": false,
"hasRasterAttributeTable": false,
"minScale": 0,
"maxScale": 0,
"exportTilesAllowed": false,
"supportsStatistics": false,
"supportsAdvancedQueries": false,
"editFieldsInfo": null,
"ownershipBasedAccessControlForRasters": null,
"allowComputeTiePoints": false,
"useStandardizedQueries": true,
"advancedQueryCapabilities": {
"useStandardizedQueries": true,
"supportsStatistics": false,
"supportsOrderBy": false,
"supportsDistinct": false,
"supportsPagination": false
},
"spatialReference": {
"wkid": 102006,
"latestWkid": 3338
},
"resampling": false
}