View In:
ArcGIS JavaScript
ArcGIS Online Map Viewer
ArcGIS Earth
Service Description: Updated May 2025. The geospatial data product described here provides foundational information which address the Risk Management Principles described in Forest Service Manual 5131. FS Manual 5131 - Wildfire Doctrine and Principles
5131.3 - Risk Management Principles
The wildfire response environment is complex, presenting significant effects on public health and safety, and possesses inherent hazards that can result in harm to firefighters engaged in wildfire response operations, even with reasonable mitigation. 1. The Forest Service is committed to the aggressive management of risk. 2. Apply a risk management process to minimize the exposure and effects of the inherent hazards in wildfire response while maximizing the opportunities to achieve management objectives. 3. Maintaining state of the art decision support systems based on the best available science is essential for making sound decisions on how to manage all wildland fire to achieve Land Resource Management Plan objectives, including public and Agency personnel safety.
Name: RDW_ForestEcology/National_Snag_Hazard
Description: Snags are a hazard to firefighters that has traditionally been managed at the field level through scouting, rapid assessment, and mitigation by avoidance or by elimination though felling. Widespread wildfires and insect/disease disturbances have resulted in an accumulation of snags across many forested landscapes, raising the risk of injury or death for firefighters and other forest workers. The National Snag Hazard Map (Riley et al. 2022) is intended to provide a landscape level view of current snag hazard to encourage awareness, assessment, and planning to mitigate snag-related risks. The National Snag Hazard Map is based on the estimated density and median height of snags greater than or equal to 7.9-in diameter at breast height and at least 10-ft tall. Snag density and median snag height are classified into hazard levels based on the logic that hazard increases with snag density and height (Dunn et al. 2019).
Snag hazard is a landscape level decision support tool intended to help firefighters consider the magnitude and spatial distribution of snag hazard in their incident response strategy planning. Valid uses include identifying areas of higher snag hazard on the landscape that may require extra mitigation for safe operation, or that could be avoided to reduce risk to firefighters. The snag hazard map is not meant for tactical planning. A rating of low snag hazard does not mean that no overhead hazards are present and should not be interpreted as judgement that an area is safe to occupy. Conditions should always be verified in the field. Maintaining high situational awareness for overhead hazards is recommended regardless of the snag hazard rating.
Dunn CJ, O’Connor CD, Reilly MJ, Calkin DE, Thompson MP (2019) Spatial and temporal assessment of responder exposure to snag hazards in post-fire environments. Forest Ecology and Management 441, 202-2014. DOI:10.1016/j.foreco.2019.03.035
Riley KL, O’Connor CD, Dunn CJ, Haas JR, Stratton RD, Gannon B (2022) A national map of snag hazard to reduce risk to wildland fire responders. Forests 13, 1160. DOI:10.3390/f13081160
Single Fused Map Cache: false
Extent:
XMin: -1.4233116241700001E7
YMin: 2661440.981899999
XMax: -7277346.241700001
YMax: 6717860.981899999
Spatial Reference: 102100
(3857)
LatestVCSWkid(0)
Initial Extent:
XMin: -1.4233116241700001E7
YMin: 2661440.981899999
XMax: -7277346.241700001
YMax: 6717860.981899999
Spatial Reference: 102100
(3857)
LatestVCSWkid(0)
Full Extent:
XMin: -1.4233116241700001E7
YMin: 2661440.981899999
XMax: -7277346.241700001
YMax: 6717860.981899999
Spatial Reference: 102100
(3857)
LatestVCSWkid(0)
Pixel Size X: 30.0
Pixel Size Y: 30.0
Band Count: 1
Pixel Type: U8
RasterFunction Infos: {"rasterFunctionInfos": [
{
"name": "SnagHaz",
"description": "SnagHaz",
"help": ""
},
{
"name": "None",
"description": "Make a Raster or Raster Dataset into a Function Raster Dataset.",
"help": ""
}
]}
Mensuration Capabilities: None
Inspection Capabilities:
Has Histograms: true
Has Colormap: false
Has Multi Dimensions : false
Rendering Rule:
Min Scale: 0
Max Scale: 0
Resampling: false
Copyright Text: USDA Forest Service, Fire and Aviation Management, Strategic Analytics Branch
USDA Forest Service, Rocky Mountain Research Station
Service Data Type: esriImageServiceDataTypeThematic
Min Values: 0
Max Values: 5
Mean Values: 0.7509751302773892
Standard Deviation Values: 1.2032695503095219
Object ID Field: OBJECTID
Fields:
-
OBJECTID
(
type: esriFieldTypeOID, alias: OBJECTID
)
-
Shape
(
type: esriFieldTypeGeometry, alias: Shape
)
-
Name
(
type: esriFieldTypeString, alias: Name, length: 200
)
-
MinPS
(
type: esriFieldTypeDouble, alias: MinPS
)
-
MaxPS
(
type: esriFieldTypeDouble, alias: MaxPS
)
-
LowPS
(
type: esriFieldTypeDouble, alias: LowPS
)
-
HighPS
(
type: esriFieldTypeDouble, alias: HighPS
)
-
Category
(
type: esriFieldTypeInteger, alias: Category
, Coded Values:
[0: Unknown]
, [1: Primary]
, [2: Overview]
, ...6 more...
)
-
Tag
(
type: esriFieldTypeString, alias: Tag, length: 100
)
-
GroupName
(
type: esriFieldTypeString, alias: GroupName, length: 100
)
-
ProductName
(
type: esriFieldTypeString, alias: ProductName, length: 100
)
-
CenterX
(
type: esriFieldTypeDouble, alias: CenterX
)
-
CenterY
(
type: esriFieldTypeDouble, alias: CenterY
)
-
ZOrder
(
type: esriFieldTypeInteger, alias: ZOrder
)
-
Shape_Length
(
type: esriFieldTypeDouble, alias: Shape_Length
)
-
Shape_Area
(
type: esriFieldTypeDouble, alias: Shape_Area
)
Default Mosaic Method: Northwest
Allowed Mosaic Methods: NorthWest,Center,LockRaster,ByAttribute,Nadir,Viewpoint,Seamline,None
SortField:
SortValue: null
Mosaic Operator: First
Default Compression Quality: 75
Default Resampling Method: Nearest
Max Record Count: 1000
Max Image Height: 50000
Max Image Width: 50000
Max Download Image Count: 20
Max Mosaic Image Count: 50
Allow Raster Function: true
Allow Copy: true
Allow Analysis: true
Allow Compute TiePoints: false
Supports Statistics: true
Supports Advanced Queries: true
Use StandardizedQueries: true
Raster Type Infos:
Name: Raster Dataset
Description: Supports all ArcGIS Raster Datasets
Help:
Has Raster Attribute Table: false
Edit Fields Info: null
Ownership Based AccessControl For Rasters: null
Child Resources:
Info
Histograms
Statistics
Key Properties
Legend
Raster Function Infos
Supported Operations:
Export Image
Query
Identify
Compute Histograms
Compute Statistics Histograms
Get Samples
Compute Class Statistics
Query GPS Info
Find Images
Image to Map
Map to Image
Measure from Image
Image to Map Multiray
Query Boundary
Compute Pixel Location
Compute Angles
Validate
Project