{ "currentVersion": 11.3, "serviceDescription": "Updated May 2025. \nThe geospatial data product described here provides foundational information which address the Risk Management Principles described in Forest Service Manual 5131. \n\t\t\t\tFS Manual 5131 - Wildfire Doctrine and Principles\n\t\t\t\t5131.3 - Risk Management Principles\n\t\t\t\tThe wildfire response environment is complex, presenting significant effects on public health and safety, and possesses inherent hazards that can result in harm to firefighters engaged in wildfire response operations, even with reasonable mitigation. \n\t\t\t\t1. The Forest Service is committed to the aggressive management of risk. \n\t\t\t\t2. Apply a risk management process to minimize the exposure and effects of the inherent hazards in wildfire response while maximizing the opportunities to achieve management objectives. \n\t\t\t\t3. Maintaining state of the art decision support systems based on the best available science is essential for making sound decisions on how to manage all wildland fire to achieve Land Resource Management Plan objectives, including public and Agency personnel safety.", "name": "RDW_ForestEcology/National_Snag_Hazard", "description": "
Snags are a hazard to firefighters that has traditionally been managed at the field level through scouting, rapid assessment, and mitigation by avoidance or by elimination though felling. Widespread wildfires and insect/disease disturbances have resulted in an accumulation of snags across many forested landscapes, raising the risk of injury or death for firefighters and other forest workers. The National Snag Hazard Map (Riley et al. 2022) is intended to provide a landscape level view of current snag hazard to encourage awareness, assessment, and planning to mitigate snag-related risks. The National Snag Hazard Map is based on the estimated density and median height of snags greater than or equal to 7.9-in diameter at breast height and at least 10-ft tall. Snag density and median snag height are classified into hazard levels based on the logic that hazard increases with snag density and height (Dunn et al. 2019).<\/span><\/p> Snag hazard is a landscape level decision support tool intended to help firefighters consider the magnitude and spatial distribution of snag hazard in their incident response strategy planning. Valid uses include identifying areas of higher snag hazard on the landscape that may require extra mitigation for safe operation, or that could be avoided to reduce risk to firefighters. The snag hazard map is not meant for tactical planning. A rating of low snag hazard does not mean that no overhead hazards are present and should not be interpreted as judgement that an area is safe to occupy. Conditions should always be verified in the field. Maintaining high situational awareness for overhead hazards is recommended regardless of the snag hazard rating.<\/span><\/p> Dunn CJ, O\u2019Connor CD, Reilly MJ, Calkin DE, Thompson MP (2019) Spatial and temporal assessment of responder exposure to snag hazards in post-fire environments. Forest Ecology and Management 441, 202-2014. DOI:10.1016/j.foreco.2019.03.035<\/span><\/p> Riley KL, O\u2019Connor CD, Dunn CJ, Haas JR, Stratton RD, Gannon B (2022) A national map of snag hazard to reduce risk to wildland fire responders. Forests 13, 1160. DOI:10.3390/f13081160<\/span><\/p><\/div><\/div><\/div>",
"extent": {
"xmin": -1.4233116241700001E7,
"ymin": 2661440.981899999,
"xmax": -7277346.241700001,
"ymax": 6717860.981899999,
"spatialReference": {
"wkid": 102100,
"latestWkid": 3857
}
},
"initialExtent": {
"xmin": -1.4233116241700001E7,
"ymin": 2661440.981899999,
"xmax": -7277346.241700001,
"ymax": 6717860.981899999,
"spatialReference": {
"wkid": 102100,
"latestWkid": 3857
}
},
"fullExtent": {
"xmin": -1.4233116241700001E7,
"ymin": 2661440.981899999,
"xmax": -7277346.241700001,
"ymax": 6717860.981899999,
"spatialReference": {
"wkid": 102100,
"latestWkid": 3857
}
},
"sortableFields": "",
"bandCount": 1,
"pixelType": "U8",
"minValues": [
0
],
"maxValues": [
5
],
"meanValues": [
0.7509751302773892
],
"stdvValues": [
1.2032695503095219
],
"hasMultidimensions": false,
"pixelSizeX": 30,
"pixelSizeY": 30,
"meanPixelSize": 30,
"datasetFormat": "AMD",
"uncompressedSize": 31350582826,
"blockWidth": 2048,
"blockHeight": 256,
"compressionType": "None",
"bandNames": [
"Band_1"
],
"allowCopy": true,
"allowAnalysis": true,
"itemAccess": false,
"inspectionCapabilities": "",
"minPixelSize": 0,
"maxPixelSize": 0,
"copyrightText": "USDA Forest Service, Fire and Aviation Management, Strategic Analytics Branch\nUSDA Forest Service, Rocky Mountain Research Station",
"serviceDataType": "esriImageServiceDataTypeThematic",
"serviceSourceType": "esriImageServiceSourceTypeMosaicDataset",
"objectIdField": "OBJECTID",
"fields": [
{
"name": "OBJECTID",
"type": "esriFieldTypeOID",
"alias": "OBJECTID",
"domain": null
},
{
"name": "Shape",
"type": "esriFieldTypeGeometry",
"alias": "Shape",
"domain": null
},
{
"name": "Name",
"type": "esriFieldTypeString",
"alias": "Name",
"domain": null,
"length": 200
},
{
"name": "MinPS",
"type": "esriFieldTypeDouble",
"alias": "MinPS",
"domain": null
},
{
"name": "MaxPS",
"type": "esriFieldTypeDouble",
"alias": "MaxPS",
"domain": null
},
{
"name": "LowPS",
"type": "esriFieldTypeDouble",
"alias": "LowPS",
"domain": null
},
{
"name": "HighPS",
"type": "esriFieldTypeDouble",
"alias": "HighPS",
"domain": null
},
{
"name": "Category",
"type": "esriFieldTypeInteger",
"alias": "Category",
"domain": {
"type": "codedValue",
"name": "MosaicCatalogItemCategoryDomain",
"description": "Catalog item categories.",
"codedValues": [
{
"name": "Unknown",
"code": 0
},
{
"name": "Primary",
"code": 1
},
{
"name": "Overview",
"code": 2
},
{
"name": "Unprocessed Overview",
"code": 3
},
{
"name": "Partial Overview",
"code": 4
},
{
"name": "Inactive",
"code": 5
},
{
"name": "Uploaded",
"code": 253
},
{
"name": "Incomplete",
"code": 254
},
{
"name": "Custom",
"code": 255
}
],
"mergePolicy": "esriMPTDefaultValue",
"splitPolicy": "esriSPTDefaultValue"
}
},
{
"name": "Tag",
"type": "esriFieldTypeString",
"alias": "Tag",
"domain": null,
"length": 100
},
{
"name": "GroupName",
"type": "esriFieldTypeString",
"alias": "GroupName",
"domain": null,
"length": 100
},
{
"name": "ProductName",
"type": "esriFieldTypeString",
"alias": "ProductName",
"domain": null,
"length": 100
},
{
"name": "CenterX",
"type": "esriFieldTypeDouble",
"alias": "CenterX",
"domain": null
},
{
"name": "CenterY",
"type": "esriFieldTypeDouble",
"alias": "CenterY",
"domain": null
},
{
"name": "ZOrder",
"type": "esriFieldTypeInteger",
"alias": "ZOrder",
"domain": null
},
{
"name": "Shape_Length",
"type": "esriFieldTypeDouble",
"alias": "Shape_Length",
"domain": null
},
{
"name": "Shape_Area",
"type": "esriFieldTypeDouble",
"alias": "Shape_Area",
"domain": null
}
],
"capabilities": "Catalog,Image,Metadata",
"defaultMosaicMethod": "Northwest",
"allowedMosaicMethods": "NorthWest,Center,LockRaster,ByAttribute,Nadir,Viewpoint,Seamline,None",
"sortField": "",
"sortValue": null,
"sortAscending": true,
"mosaicOperator": "First",
"maxDownloadSizeLimit": 2048,
"defaultCompressionQuality": 75,
"defaultResamplingMethod": "Nearest",
"maxImageHeight": 50000,
"maxImageWidth": 50000,
"maxRecordCount": 1000,
"maxDownloadImageCount": 20,
"maxMosaicImageCount": 50,
"allowRasterFunction": true,
"rasterFunctionInfos": [
{
"name": "SnagHaz",
"description": "SnagHaz",
"help": ""
},
{
"name": "None",
"description": "Make a Raster or Raster Dataset into a Function Raster Dataset.",
"help": ""
}
],
"rasterTypeInfos": [
{
"name": "Raster Dataset",
"description": "Supports all ArcGIS Raster Datasets",
"help": ""
}
],
"mensurationCapabilities": "None",
"hasHistograms": true,
"hasColormap": false,
"hasRasterAttributeTable": false,
"minScale": 0,
"maxScale": 0,
"exportTilesAllowed": false,
"supportsStatistics": true,
"supportsAdvancedQueries": true,
"editFieldsInfo": null,
"ownershipBasedAccessControlForRasters": null,
"allowComputeTiePoints": false,
"useStandardizedQueries": true,
"advancedQueryCapabilities": {
"useStandardizedQueries": true,
"supportsStatistics": true,
"supportsOrderBy": true,
"supportsDistinct": true,
"supportsPagination": true
},
"spatialReference": {
"wkid": 102100,
"latestWkid": 3857
},
"resampling": false
}