View In:
ArcGIS JavaScript
ArcGIS Online Map Viewer
ArcGIS Earth
Service Description: wo_nfs_gtac-SlopeDeg_NED_SRTM_30m_Int
Name: wo_nfs_gtac/SlopeDeg_NED_SRTM_30m_Int
Description: wo_nfs_gtac-SlopeDeg_NED_SRTM_30m_Int
Single Fused Map Cache: false
Extent:
XMin: -3327000.0
YMin: 262890.0
XMax: 2588430.0
YMax: 5110380.0
Spatial Reference: 5070
(5070)
LatestVCSWkid(0)
Initial Extent:
XMin: -3327000.0
YMin: 262890.0
XMax: 2588430.0
YMax: 5110380.0
Spatial Reference: 5070
(5070)
LatestVCSWkid(0)
Full Extent:
XMin: -3327000.0
YMin: 262890.0
XMax: 2588430.0
YMax: 5110380.0
Spatial Reference: 5070
(5070)
LatestVCSWkid(0)
Pixel Size X: 30.0
Pixel Size Y: 30.0
Band Count: 1
Pixel Type: S32
RasterFunction Infos: {"rasterFunctionInfos": [{
"name": "None",
"description": "",
"help": ""
}]}
Mensuration Capabilities: Basic
Inspection Capabilities:
Has Histograms: true
Has Colormap: false
Has Multi Dimensions : false
Rendering Rule:
Min Scale: 0
Max Scale: 0
Copyright Text:
Service Data Type: esriImageServiceDataTypeGeneric
Min Values: 0
Max Values: 8588
Mean Values: 540.16880161092
Standard Deviation Values: 796.23011957647
Object ID Field:
Fields:
None
Default Mosaic Method: Center
Allowed Mosaic Methods:
SortField:
SortValue: null
Mosaic Operator: First
Default Compression Quality: 75
Default Resampling Method: Bilinear
Max Record Count: null
Max Image Height: 4100
Max Image Width: 15000
Max Download Image Count: null
Max Mosaic Image Count: null
Allow Raster Function: true
Allow Copy: true
Allow Analysis: true
Allow Compute TiePoints: false
Supports Statistics: false
Supports Advanced Queries: false
Use StandardizedQueries: true
Raster Type Infos:
Name: Raster Dataset
Description: Supports all ArcGIS Raster Datasets
Help:
Has Raster Attribute Table: false
Edit Fields Info: null
Ownership Based AccessControl For Rasters: null
Child Resources:
Info
Histograms
Statistics
Key Properties
Legend
Raster Function Infos
Supported Operations:
Export Image
Identify
Measure
Compute Histograms
Compute Statistics Histograms
Get Samples
Compute Class Statistics
Query Boundary
Compute Pixel Location
Compute Angles
Validate
Project