View In:
ArcGIS JavaScript
ArcGIS Online Map Viewer
ArcGIS Earth
Service Description: wo_nfs_gtac-PET_Fall_1981_2010
Name: wo_nfs_gtac/PET_Fall_1981_2010
Description: wo_nfs_gtac-PET_Fall_1981_2010
Single Fused Map Cache: false
Extent:
XMin: -125.020833333
YMin: 24.062499999799996
XMax: -66.479166198
YMax: 49.937500206799996
Spatial Reference: 4269
(4269)
LatestVCSWkid(0)
Initial Extent:
XMin: -125.020833333
YMin: 24.062499999799996
XMax: -66.479166198
YMax: 49.937500206799996
Spatial Reference: 4269
(4269)
LatestVCSWkid(0)
Full Extent:
XMin: -125.020833333
YMin: 24.062499999799996
XMax: -66.479166198
YMax: 49.937500206799996
Spatial Reference: 4269
(4269)
LatestVCSWkid(0)
Pixel Size X: 0.041666667
Pixel Size Y: 0.041666667
Band Count: 1
Pixel Type: F64
RasterFunction Infos: {"rasterFunctionInfos": [{
"name": "None",
"description": "",
"help": ""
}]}
Mensuration Capabilities: Basic
Inspection Capabilities:
Has Histograms: false
Has Colormap: false
Has Multi Dimensions : false
Rendering Rule:
Min Scale: 0
Max Scale: 0
Copyright Text:
Service Data Type: esriImageServiceDataTypeGeneric
Min Values: 50.357723854297
Max Values: 613.72304784525
Mean Values: 230.00839044768
Standard Deviation Values: 72.37974436829
Object ID Field:
Fields:
None
Default Mosaic Method: Center
Allowed Mosaic Methods:
SortField:
SortValue: null
Mosaic Operator: First
Default Compression Quality: 75
Default Resampling Method: Bilinear
Max Record Count: null
Max Image Height: 4100
Max Image Width: 15000
Max Download Image Count: null
Max Mosaic Image Count: null
Allow Raster Function: true
Allow Copy: true
Allow Analysis: true
Allow Compute TiePoints: false
Supports Statistics: false
Supports Advanced Queries: false
Use StandardizedQueries: true
Raster Type Infos:
Name: Raster Dataset
Description: Supports all ArcGIS Raster Datasets
Help:
Has Raster Attribute Table: false
Edit Fields Info: null
Ownership Based AccessControl For Rasters: null
Child Resources:
Info
Statistics
Key Properties
Legend
Raster Function Infos
Supported Operations:
Export Image
Identify
Measure
Compute Histograms
Compute Statistics Histograms
Get Samples
Compute Class Statistics
Query Boundary
Compute Pixel Location
Compute Angles
Validate
Project