View In:
ArcGIS JavaScript
ArcGIS Online Map Viewer
ArcGIS Earth
Service Description: wo_nfs_gtac-Daymet_Seasonal_Precipitation_Winter_Summer
Name: wo_nfs_gtac/Daymet_Seasonal_Precipitation_Winter_Summer
Description: wo_nfs_gtac-Daymet_Seasonal_Precipitation_Winter_Summer
Single Fused Map Cache: false
Extent:
XMin: -3327000.0
YMin: 263000.0
XMax: 2564000.0
YMax: 5111000.0
Spatial Reference: 5070
(5070)
LatestVCSWkid(0)
Initial Extent:
XMin: -3327000.0
YMin: 263000.0
XMax: 2564000.0
YMax: 5111000.0
Spatial Reference: 5070
(5070)
LatestVCSWkid(0)
Full Extent:
XMin: -3327000.0
YMin: 263000.0
XMax: 2564000.0
YMax: 5111000.0
Spatial Reference: 5070
(5070)
LatestVCSWkid(0)
Pixel Size X: 1000.0
Pixel Size Y: 1000.0
Band Count: 1
Pixel Type: S16
RasterFunction Infos: {"rasterFunctionInfos": [{
"name": "None",
"description": "",
"help": ""
}]}
Mensuration Capabilities: Basic
Inspection Capabilities:
Has Histograms: true
Has Colormap: false
Has Multi Dimensions : false
Rendering Rule:
Min Scale: 0
Max Scale: 0
Copyright Text:
Service Data Type: esriImageServiceDataTypeGeneric
Min Values: -8414
Max Values: 22186
Mean Values: -255.45937684025
Standard Deviation Values: 1904.2994345692
Object ID Field:
Fields:
None
Default Mosaic Method: Center
Allowed Mosaic Methods:
SortField:
SortValue: null
Mosaic Operator: First
Default Compression Quality: 75
Default Resampling Method: Bilinear
Max Record Count: null
Max Image Height: 4100
Max Image Width: 15000
Max Download Image Count: null
Max Mosaic Image Count: null
Allow Raster Function: true
Allow Copy: true
Allow Analysis: true
Allow Compute TiePoints: false
Supports Statistics: false
Supports Advanced Queries: false
Use StandardizedQueries: true
Raster Type Infos:
Name: Raster Dataset
Description: Supports all ArcGIS Raster Datasets
Help:
Has Raster Attribute Table: false
Edit Fields Info: null
Ownership Based AccessControl For Rasters: null
Child Resources:
Info
Histograms
Statistics
Key Properties
Legend
Raster Function Infos
Supported Operations:
Export Image
Identify
Measure
Compute Histograms
Compute Statistics Histograms
Get Samples
Compute Class Statistics
Query Boundary
Compute Pixel Location
Compute Angles
Validate
Project