View In:
ArcGIS JavaScript
ArcGIS Online Map Viewer
ArcGIS Earth
Service Description: wo_nfs_gtac-Daymet_Seasonal_MaxTemp
Name: wo_nfs_gtac/Daymet_Seasonal_MaxTemp
Description: wo_nfs_gtac-Daymet_Seasonal_MaxTemp
Single Fused Map Cache: false
Extent:
XMin: -3327000.0
YMin: 263000.0
XMax: 2564000.0
YMax: 5111000.0
Spatial Reference: 5070
(5070)
LatestVCSWkid(0)
Initial Extent:
XMin: -3327000.0
YMin: 263000.0
XMax: 2564000.0
YMax: 5111000.0
Spatial Reference: 5070
(5070)
LatestVCSWkid(0)
Full Extent:
XMin: -3327000.0
YMin: 263000.0
XMax: 2564000.0
YMax: 5111000.0
Spatial Reference: 5070
(5070)
LatestVCSWkid(0)
Pixel Size X: 1000.0
Pixel Size Y: 1000.0
Band Count: 4
Pixel Type: S32
RasterFunction Infos: {"rasterFunctionInfos": [{
"name": "None",
"description": "",
"help": ""
}]}
Mensuration Capabilities: Basic
Inspection Capabilities:
Has Histograms: true
Has Colormap: false
Has Multi Dimensions : false
Rendering Rule:
Min Scale: 0
Max Scale: 0
Copyright Text:
Service Data Type: esriImageServiceDataTypeGeneric
Min Values: -25017, -18296, -2989, -21636
Max Values: 25922, 35783, 45158, 29569
Mean Values: 6683.724287778, 20118.571079877, 28461.425279071, 14064.196965382
Standard Deviation Values: 7437.9606655758, 5801.6099785244, 4776.3052406884, 6324.667552546
Object ID Field:
Fields:
None
Default Mosaic Method: Center
Allowed Mosaic Methods:
SortField:
SortValue: null
Mosaic Operator: First
Default Compression Quality: 75
Default Resampling Method: Bilinear
Max Record Count: null
Max Image Height: 4100
Max Image Width: 15000
Max Download Image Count: null
Max Mosaic Image Count: null
Allow Raster Function: true
Allow Copy: true
Allow Analysis: true
Allow Compute TiePoints: false
Supports Statistics: false
Supports Advanced Queries: false
Use StandardizedQueries: true
Raster Type Infos:
Name: Raster Dataset
Description: Supports all ArcGIS Raster Datasets
Help:
Has Raster Attribute Table: false
Edit Fields Info: null
Ownership Based AccessControl For Rasters: null
Child Resources:
Info
Histograms
Statistics
Key Properties
Legend
Raster Function Infos
Supported Operations:
Export Image
Identify
Measure
Compute Histograms
Compute Statistics Histograms
Get Samples
Compute Class Statistics
Query Boundary
Compute Pixel Location
Compute Angles
Validate
Project