View In:
ArcGIS JavaScript
ArcGIS Online Map Viewer
ArcGIS Earth
Service Description: wo_nfs_gstc/WO_OSC_CRV_ManagementIntent_FASABReport
Name: wo_nfs_gstc/WO_OSC_CRV_ManagementIntent_FASABReport
Description:
Single Fused Map Cache: false
Extent:
XMin: -150.00792810999997
YMin: 17.73898268000005
XMax: -64.73792810999997
YMax: 61.51898268000005
Spatial Reference: 4269
(4269)
LatestVCSWkid(0)
Initial Extent:
XMin: -150.00792810999997
YMin: 17.73898268000005
XMax: -64.73792810999997
YMax: 61.51898268000005
Spatial Reference: 4269
(4269)
LatestVCSWkid(0)
Full Extent:
XMin: -150.00792810999997
YMin: 17.73898268000005
XMax: -64.73792810999997
YMax: 61.51898268000005
Spatial Reference: 4269
(4269)
LatestVCSWkid(0)
Pixel Size X: 0.01
Pixel Size Y: 0.01
Band Count: 1
Pixel Type: U4
RasterFunction Infos: {"rasterFunctionInfos": [{
"name": "None",
"description": "",
"help": ""
}]}
Mensuration Capabilities: Basic
Inspection Capabilities:
Has Histograms: true
Has Colormap: false
Has Multi Dimensions : false
Rendering Rule:
Min Scale: 0
Max Scale: 0
Resampling: false
Copyright Text:
Service Data Type: esriImageServiceDataTypeThematic
Min Values: 1
Max Values: 9
Mean Values: 2.7570422177152833
Standard Deviation Values: 1.797366276816693
Object ID Field:
Fields:
None
Default Mosaic Method: Center
Allowed Mosaic Methods:
SortField:
SortValue: null
Mosaic Operator: First
Default Compression Quality: 75
Default Resampling Method: Nearest
Max Record Count: null
Max Image Height: 4100
Max Image Width: 15000
Max Download Image Count: null
Max Mosaic Image Count: null
Allow Raster Function: true
Allow Copy: true
Allow Analysis: true
Allow Compute TiePoints: false
Supports Statistics: false
Supports Advanced Queries: false
Use StandardizedQueries: true
Raster Type Infos:
Name: Raster Dataset
Description: Supports all ArcGIS Raster Datasets
Help:
Has Raster Attribute Table: true
Edit Fields Info: null
Ownership Based AccessControl For Rasters: null
Child Resources:
Info
Raster Attribute Table
Histograms
Statistics
Key Properties
Legend
Raster Function Infos
Supported Operations:
Export Image
Identify
Measure
Compute Histograms
Compute Statistics Histograms
Get Samples
Compute Class Statistics
Query Boundary
Compute Pixel Location
Compute Angles
Validate
Project