View In:
ArcGIS JavaScript
ArcGIS Online Map Viewer
ArcGIS Earth
Service Description: wo_nfs_gstc/WO_OSC_CRV_ManagementIntent_FACTSHarvestAndSilvicultureActivities
Name: wo_nfs_gstc/WO_OSC_CRV_ManagementIntent_FACTSHarvestAndSilvicultureActivities
Description:
Single Fused Map Cache: false
Extent:
XMin: -3193994.4722000007
YMin: -302725.7143000001
XMax: 5132255.527799999
YMax: 5055774.2857
Spatial Reference: 102039
(102039)
LatestVCSWkid(0)
Initial Extent:
XMin: -3193994.4722000007
YMin: -302725.7143000001
XMax: 5132255.527799999
YMax: 5055774.2857
Spatial Reference: 102039
(102039)
LatestVCSWkid(0)
Full Extent:
XMin: -3193994.4722000007
YMin: -302725.7143000001
XMax: 5132255.527799999
YMax: 5055774.2857
Spatial Reference: 102039
(102039)
LatestVCSWkid(0)
Pixel Size X: 250.0
Pixel Size Y: 250.0
Band Count: 1
Pixel Type: U4
RasterFunction Infos: {"rasterFunctionInfos": [{
"name": "None",
"description": "",
"help": ""
}]}
Mensuration Capabilities: Basic
Inspection Capabilities:
Has Histograms: true
Has Colormap: false
Has Multi Dimensions : false
Rendering Rule:
Min Scale: 0
Max Scale: 0
Copyright Text:
Service Data Type: esriImageServiceDataTypeThematic
Min Values: 1
Max Values: 6
Mean Values: 2.1904484076344772
Standard Deviation Values: 0.8897988294336464
Object ID Field:
Fields:
None
Default Mosaic Method: Center
Allowed Mosaic Methods:
SortField:
SortValue: null
Mosaic Operator: First
Default Compression Quality: 75
Default Resampling Method: Nearest
Max Record Count: null
Max Image Height: 4100
Max Image Width: 15000
Max Download Image Count: null
Max Mosaic Image Count: null
Allow Raster Function: true
Allow Copy: true
Allow Analysis: true
Allow Compute TiePoints: false
Supports Statistics: false
Supports Advanced Queries: false
Use StandardizedQueries: true
Raster Type Infos:
Name: Raster Dataset
Description: Supports all ArcGIS Raster Datasets
Help:
Has Raster Attribute Table: true
Edit Fields Info: null
Ownership Based AccessControl For Rasters: null
Child Resources:
Info
Raster Attribute Table
Histograms
Statistics
Key Properties
Legend
Raster Function Infos
Supported Operations:
Export Image
Identify
Measure
Compute Histograms
Compute Statistics Histograms
Get Samples
Compute Class Statistics
Query Boundary
Compute Pixel Location
Compute Angles
Validate
Project