View In:
ArcGIS JavaScript
ArcGIS Online Map Viewer
ArcGIS Earth
Service Description: wo_nfs_gstc/WO_OSC_CRV_Climate_SnowResidenceTimePercentChange
Name: wo_nfs_gstc/WO_OSC_CRV_Climate_SnowResidenceTimePercentChange
Description:
Single Fused Map Cache: false
Extent:
XMin: -2895991.9108599545
YMin: 221562.6546630077
XMax: 2912207.277067595
YMax: 3256183.5786925703
Spatial Reference: 0
(0)
LatestVCSWkid(0)
Initial Extent:
XMin: -2895991.9108599545
YMin: 221562.6546630077
XMax: 2912207.277067595
YMax: 3256183.5786925703
Spatial Reference: 0
(0)
LatestVCSWkid(0)
Full Extent:
XMin: -2895991.9108599545
YMin: 221562.6546630077
XMax: 2912207.277067595
YMax: 3256183.5786925703
Spatial Reference: 0
(0)
LatestVCSWkid(0)
Pixel Size X: 4661.47607377813
Pixel Size Y: 4661.47607377813
Band Count: 1
Pixel Type: S8
RasterFunction Infos: {"rasterFunctionInfos": [{
"name": "None",
"description": "",
"help": ""
}]}
Mensuration Capabilities: Basic
Inspection Capabilities:
Has Histograms: true
Has Colormap: false
Has Multi Dimensions : false
Rendering Rule:
Min Scale: 0
Max Scale: 0
Copyright Text:
Service Data Type: esriImageServiceDataTypeThematic
Min Values: -100
Max Values: -8
Mean Values: -66.21952698605216
Standard Deviation Values: 21.960150458866845
Object ID Field:
Fields:
None
Default Mosaic Method: Center
Allowed Mosaic Methods:
SortField:
SortValue: null
Mosaic Operator: First
Default Compression Quality: 75
Default Resampling Method: Nearest
Max Record Count: null
Max Image Height: 4100
Max Image Width: 15000
Max Download Image Count: null
Max Mosaic Image Count: null
Allow Raster Function: true
Allow Copy: true
Allow Analysis: true
Allow Compute TiePoints: false
Supports Statistics: false
Supports Advanced Queries: false
Use StandardizedQueries: true
Raster Type Infos:
Name: Raster Dataset
Description: Supports all ArcGIS Raster Datasets
Help:
Has Raster Attribute Table: true
Edit Fields Info: null
Ownership Based AccessControl For Rasters: null
Child Resources:
Info
Raster Attribute Table
Histograms
Statistics
Key Properties
Legend
Raster Function Infos
Supported Operations:
Export Image
Identify
Measure
Compute Histograms
Compute Statistics Histograms
Get Samples
Compute Class Statistics
Query Boundary
Compute Pixel Location
Compute Angles
Validate
Project