View In:
ArcGIS JavaScript
ArcGIS Online Map Viewer
ArcGIS Earth
Service Description: wo_nfs_gstc/WO_OSC_CRV_Climate_HumanModification
Name: wo_nfs_gstc/WO_OSC_CRV_Climate_HumanModification
Description:
Single Fused Map Cache: false
Extent:
XMin: -124.76278772952497
YMin: 24.518886859343453
XMax: -66.9497313263881
YMax: 49.384613249885454
Spatial Reference: 4326
(4326)
LatestVCSWkid(0)
Initial Extent:
XMin: -124.76278772952497
YMin: 24.518886859343453
XMax: -66.9497313263881
YMax: 49.384613249885454
Spatial Reference: 4326
(4326)
LatestVCSWkid(0)
Full Extent:
XMin: -124.76278772952497
YMin: 24.518886859343453
XMax: -66.9497313263881
YMax: 49.384613249885454
Spatial Reference: 4326
(4326)
LatestVCSWkid(0)
Pixel Size X: 0.002425451267122708
Pixel Size Y: 0.002425451267122708
Band Count: 1
Pixel Type: U8
RasterFunction Infos: {"rasterFunctionInfos": [{
"name": "None",
"description": "",
"help": ""
}]}
Mensuration Capabilities: Basic
Inspection Capabilities:
Has Histograms: true
Has Colormap: false
Has Multi Dimensions : false
Rendering Rule:
Min Scale: 0
Max Scale: 0
Copyright Text:
Service Data Type: esriImageServiceDataTypeGeneric
Min Values: 0
Max Values: 4
Mean Values: 2.0114150666612467
Standard Deviation Values: 1.3857374097206683
Object ID Field:
Fields:
None
Default Mosaic Method: Center
Allowed Mosaic Methods:
SortField:
SortValue: null
Mosaic Operator: First
Default Compression Quality: 75
Default Resampling Method: Nearest
Max Record Count: null
Max Image Height: 4100
Max Image Width: 15000
Max Download Image Count: null
Max Mosaic Image Count: null
Allow Raster Function: true
Allow Copy: true
Allow Analysis: true
Allow Compute TiePoints: false
Supports Statistics: false
Supports Advanced Queries: false
Use StandardizedQueries: true
Raster Type Infos:
Name: Raster Dataset
Description: Supports all ArcGIS Raster Datasets
Help:
Has Raster Attribute Table: true
Edit Fields Info: null
Ownership Based AccessControl For Rasters: null
Child Resources:
Info
Raster Attribute Table
Histograms
Statistics
Key Properties
Legend
Raster Function Infos
Supported Operations:
Export Image
Identify
Measure
Compute Histograms
Compute Statistics Histograms
Get Samples
Compute Class Statistics
Query Boundary
Compute Pixel Location
Compute Angles
Validate
Project