View In:
ArcGIS JavaScript
ArcGIS Online Map Viewer
ArcGIS Earth
Service Description: wo_nfs_gstc/WO_OSC_CRV_Biodiversity_ForestConnectivity
Name: wo_nfs_gstc/WO_OSC_CRV_Biodiversity_ForestConnectivity
Description:
Single Fused Map Cache: false
Extent:
XMin: -2040397.73025247
YMin: -2236923.27971391
XMax: 2649602.26974753
YMax: 913076.7202860899
Spatial Reference: 0
(0)
LatestVCSWkid(0)
Initial Extent:
XMin: -2040397.73025247
YMin: -2236923.27971391
XMax: 2649602.26974753
YMax: 913076.7202860899
Spatial Reference: 0
(0)
LatestVCSWkid(0)
Full Extent:
XMin: -2040397.73025247
YMin: -2236923.27971391
XMax: 2649602.26974753
YMax: 913076.7202860899
Spatial Reference: 0
(0)
LatestVCSWkid(0)
Pixel Size X: 1000.0
Pixel Size Y: 1000.0
Band Count: 1
Pixel Type: F32
RasterFunction Infos: {"rasterFunctionInfos": [{
"name": "None",
"description": "",
"help": ""
}]}
Mensuration Capabilities: Basic
Inspection Capabilities:
Has Histograms: true
Has Colormap: false
Has Multi Dimensions : false
Rendering Rule:
Min Scale: 0
Max Scale: 0
Copyright Text:
Service Data Type: esriImageServiceDataTypeGeneric
Min Values: 0
Max Values: 23.64446449279785
Mean Values: 0.8920070055790015
Standard Deviation Values: 0.5452636041860847
Object ID Field:
Fields:
None
Default Mosaic Method: Center
Allowed Mosaic Methods:
SortField:
SortValue: null
Mosaic Operator: First
Default Compression Quality: 75
Default Resampling Method: Bilinear
Max Record Count: null
Max Image Height: 4100
Max Image Width: 15000
Max Download Image Count: null
Max Mosaic Image Count: null
Allow Raster Function: true
Allow Copy: true
Allow Analysis: true
Allow Compute TiePoints: false
Supports Statistics: false
Supports Advanced Queries: false
Use StandardizedQueries: true
Raster Type Infos:
Name: Raster Dataset
Description: Supports all ArcGIS Raster Datasets
Help:
Has Raster Attribute Table: false
Edit Fields Info: null
Ownership Based AccessControl For Rasters: null
Child Resources:
Info
Histograms
Statistics
Key Properties
Legend
Raster Function Infos
Supported Operations:
Export Image
Identify
Measure
Compute Histograms
Compute Statistics Histograms
Get Samples
Compute Class Statistics
Query Boundary
Compute Pixel Location
Compute Angles
Validate
Project