View In:
ArcGIS JavaScript
ArcGIS Online Map Viewer
ArcGIS Earth
Service Description: wo_nfs_gstc/WO_OSC_CRV_Biodiversity_AtRiskTerrestrialEcosystems
Name: wo_nfs_gstc/WO_OSC_CRV_Biodiversity_AtRiskTerrestrialEcosystems
Description:
Single Fused Map Cache: false
Extent:
XMin: -2534974.8201720202
YMin: -1527053.022839874
XMax: 4130335.1798279798
YMax: 4561086.977160126
Spatial Reference: 0
(0)
LatestVCSWkid(0)
Initial Extent:
XMin: -2534974.8201720202
YMin: -1527053.022839874
XMax: 4130335.1798279798
YMax: 4561086.977160126
Spatial Reference: 0
(0)
LatestVCSWkid(0)
Full Extent:
XMin: -2534974.8201720202
YMin: -1527053.022839874
XMax: 4130335.1798279798
YMax: 4561086.977160126
Spatial Reference: 0
(0)
LatestVCSWkid(0)
Pixel Size X: 90.0
Pixel Size Y: 90.0
Band Count: 1
Pixel Type: U16
RasterFunction Infos: {"rasterFunctionInfos": [{
"name": "None",
"description": "",
"help": ""
}]}
Mensuration Capabilities: Basic
Inspection Capabilities:
Has Histograms: true
Has Colormap: false
Has Multi Dimensions : false
Rendering Rule:
Min Scale: 0
Max Scale: 0
Copyright Text:
Service Data Type: esriImageServiceDataTypeThematic
Min Values: 0
Max Values: 12010
Mean Values: 1580.121187881976
Standard Deviation Values: 3187.6656880249784
Object ID Field:
Fields:
None
Default Mosaic Method: Center
Allowed Mosaic Methods:
SortField:
SortValue: null
Mosaic Operator: First
Default Compression Quality: 75
Default Resampling Method: Nearest
Max Record Count: null
Max Image Height: 4100
Max Image Width: 15000
Max Download Image Count: null
Max Mosaic Image Count: null
Allow Raster Function: true
Allow Copy: true
Allow Analysis: true
Allow Compute TiePoints: false
Supports Statistics: false
Supports Advanced Queries: false
Use StandardizedQueries: true
Raster Type Infos:
Name: Raster Dataset
Description: Supports all ArcGIS Raster Datasets
Help:
Has Raster Attribute Table: true
Edit Fields Info: null
Ownership Based AccessControl For Rasters: null
Child Resources:
Info
Raster Attribute Table
Histograms
Statistics
Key Properties
Legend
Raster Function Infos
Supported Operations:
Export Image
Identify
Measure
Compute Histograms
Compute Statistics Histograms
Get Samples
Compute Class Statistics
Query Boundary
Compute Pixel Location
Compute Angles
Validate
Project