View In:
ArcGIS JavaScript
ArcGIS Online Map Viewer
ArcGIS Earth
Service Description: Imagery acquired with airborne sensors contain camera and terrain related distortions which make the images unsuitable for geospatial analysis as positions within the image may be significantly inaccurate. A digital orthophoto is a georeferenced image prepared from aerial imagery, or other remotely-sensed data in which the displacement within the image due to sensor orientation and terrain relief has been removed. Orthophotos combine the image characteristics of an image with the geometric qualities of a map. Orthoimages show ground features such as roads, buildings, and streams in their proper positions, without the distortion characteristic of unrectified aerial imagery. Digital Orthoimages formatted in quarter quarter quadrangle extents are known as Digital Orthophoto Quarter Quarter Quadrangles, or DOQQQs. Digital Orthoimages produced and used within the Forest Service are developed from imagery acquired through various national and regional image acquisition programs. The resulting orthoimages, also known as orthomaps, can be directly applied in remote sensing, GIS and mapping applications. They serve a variety of purposes, from interim maps to field Standards for Digital Orthophotos references for earth science investigations and analysis. Because of the orthographic property, an orthoimage can be used like a map for measurement of distances, angles, and areas with scale being constant everywhere. Also they can be used as map layers in GIS or other computer based manipulation, overlaying, and analysis. An orthoimage differs from a map in a manner of depiction of detail; on the map only selected detail is shown by conventional symbols, whereas on an orthoimage all details appear just as in original satellite imagery.
Name: r10/Tongass_NF_MultiRes_2015_RGB
Description: Imagery acquired with airborne sensors contain camera and terrain related distortions which make the images unsuitable for geospatial analysis as positions within the image may be significantly inaccurate. A digital orthophoto is a georeferenced image prepared from aerial imagery, or other remotely-sensed data in which the displacement within the image due to sensor orientation and terrain relief has been removed. Orthophotos combine the image characteristics of an image with the geometric qualities of a map. Orthoimages show ground features such as roads, buildings, and streams in their proper positions, without the distortion characteristic of unrectified aerial imagery. Digital Orthoimages formatted in quarter quarter quadrangle extents are known as Digital Orthophoto Quarter Quarter Quadrangles, or DOQQQs. Digital Orthoimages produced and used within the Forest Service are developed from imagery acquired through various national and regional image acquisition programs. The resulting orthoimages, also known as orthomaps, can be directly applied in remote sensing, GIS and mapping applications. They serve a variety of purposes, from interim maps to field Standards for Digital Orthophotos references for earth science investigations and analysis. Because of the orthographic property, an orthoimage can be used like a map for measurement of distances, angles, and areas with scale being constant everywhere. Also they can be used as map layers in GIS or other computer based manipulation, overlaying, and analysis. An orthoimage differs from a map in a manner of depiction of detail; on the map only selected detail is shown by conventional symbols, whereas on an orthoimage all details appear just as in original satellite imagery.
Single Fused Map Cache: false
Extent:
XMin: -1.49623573985E7
YMin: 7503192.271467006
XMax: -1.4628657049738402E7
YMax: 7765600.282800004
Spatial Reference: 102100
(3857)
Initial Extent:
XMin: -1.49623573985E7
YMin: 7503192.271467006
XMax: -1.4628657049738402E7
YMax: 7765600.282800004
Spatial Reference: 102100
(3857)
Full Extent:
XMin: -1.49623573985E7
YMin: 7503192.271467006
XMax: -1.4628657049738402E7
YMax: 7765600.282800004
Spatial Reference: 102100
(3857)
Pixel Size X: 0.0850817999999994
Pixel Size Y: 0.08508179999999937
Band Count: 3
Pixel Type: U8
RasterFunction Infos: {"rasterFunctionInfos": [{
"name": "None",
"description": "",
"help": ""
}]}
Mensuration Capabilities: None
Has Histograms: true
Has Colormap: false
Has Multi Dimensions : false
Rendering Rule:
Min Scale: 0
Max Scale: 0
Copyright Text: USDA - GEO; USDA - USFS ? GTAC
Service Data Type: esriImageServiceDataTypeRGB
Min Values: 0, 0, 0
Max Values: 255, 255, 255
Mean Values: 48.288940476725855, 58.357386798407695, 65.14957970438111
Standard Deviation Values: 53.081738172769846, 58.51526728621645, 60.3375875406558
Object ID Field: OBJECTID
Fields:
-
OBJECTID
(
type: esriFieldTypeOID, alias: OBJECTID
)
-
Shape
(
type: esriFieldTypeGeometry, alias: Shape
)
-
Name
(
type: esriFieldTypeString, alias: Name, length: 200
)
-
MinPS
(
type: esriFieldTypeDouble, alias: MinPS
)
-
MaxPS
(
type: esriFieldTypeDouble, alias: MaxPS
)
-
LowPS
(
type: esriFieldTypeDouble, alias: LowPS
)
-
HighPS
(
type: esriFieldTypeDouble, alias: HighPS
)
-
Category
(
type: esriFieldTypeInteger, alias: Category
, Coded Values:
[0: Unknown]
, [1: Primary]
, [2: Overview]
, ...6 more...
)
-
Tag
(
type: esriFieldTypeString, alias: Tag, length: 100
)
-
GroupName
(
type: esriFieldTypeString, alias: GroupName, length: 100
)
-
ProductName
(
type: esriFieldTypeString, alias: ProductName, length: 100
)
-
CenterX
(
type: esriFieldTypeDouble, alias: CenterX
)
-
CenterY
(
type: esriFieldTypeDouble, alias: CenterY
)
-
ZOrder
(
type: esriFieldTypeInteger, alias: ZOrder
)
-
Shape_Length
(
type: esriFieldTypeDouble, alias: Shape_Length
)
-
Shape_Area
(
type: esriFieldTypeDouble, alias: Shape_Area
)
Default Mosaic Method: ByAttribute
Allowed Mosaic Methods: ByAttribute,NorthWest,Center,LockRaster,Nadir,Viewpoint,Seamline,None
SortField: ZOrder
SortValue: 0
Mosaic Operator: First
Default Compression Quality: 75
Default Resampling Method: Bilinear
Max Record Count: 1000
Max Image Height: 4100
Max Image Width: 15000
Max Download Image Count: 20
Max Mosaic Image Count: 20
Allow Raster Function: true
Allow Copy: true
Allow Analysis: true
Allow Compute TiePoints: false
Supports Statistics: true
Supports Advanced Queries: true
Use StandardizedQueries: true
Raster Type Infos:
Name: Raster Dataset
Description: Supports all ArcGIS Raster Datasets
Help:
Has Raster Attribute Table: false
Edit Fields Info: null
Ownership Based AccessControl For Rasters: null
Child Resources:
Info
Histograms
Statistics
Key Properties
Legend
Raster Function Infos
Supported Operations:
Export Image
Query
Identify
Compute Histograms
Compute Statistics Histograms
Get Samples
Compute Class Statistics
Query Boundary
Compute Pixel Location
Compute Angles
Validate
Project