View In:
ArcGIS JavaScript
ArcGIS Online Map Viewer
ArcGIS Earth
Service Description: r10/TongassNF_ExistingVegetation_TPA_GTE1ftTall_DRAFT
Name: r10/TongassNF_ExistingVegetation_TPA_GTE1ftTall_DRAFT
Description:
Single Fused Map Cache: false
Extent:
XMin: 468466.4419000087
YMin: 312893.6608000294
XMax: 1051881.4418999716
YMax: 923488.6607999905
Spatial Reference: 0
(0)
LatestVCSWkid(0)
Initial Extent:
XMin: 468466.4419000087
YMin: 312893.6608000294
XMax: 1051881.4418999716
YMax: 923488.6607999905
Spatial Reference: 0
(0)
LatestVCSWkid(0)
Full Extent:
XMin: 468466.4419000087
YMin: 312893.6608000294
XMax: 1051881.4418999716
YMax: 923488.6607999905
Spatial Reference: 0
(0)
LatestVCSWkid(0)
Pixel Size X: 4.999999999999682
Pixel Size Y: 4.999999999999682
Band Count: 1
Pixel Type: F32
RasterFunction Infos: {"rasterFunctionInfos": [{
"name": "None",
"description": "",
"help": ""
}]}
Mensuration Capabilities: Basic
Inspection Capabilities:
Has Histograms: true
Has Colormap: false
Has Multi Dimensions : false
Rendering Rule:
Min Scale: 0
Max Scale: 0
Resampling: false
Copyright Text:
Service Data Type: esriImageServiceDataTypeGeneric
Min Values: 0
Max Values: 5553.91015625
Mean Values: 1006.0800477825
Standard Deviation Values: 955.67775953087
Object ID Field:
Fields:
None
Default Mosaic Method: Center
Allowed Mosaic Methods:
SortField:
SortValue: null
Mosaic Operator: First
Default Compression Quality: 75
Default Resampling Method: Bilinear
Max Record Count: null
Max Image Height: 50000
Max Image Width: 50000
Max Download Image Count: null
Max Mosaic Image Count: null
Allow Raster Function: true
Allow Copy: true
Allow Analysis: true
Allow Compute TiePoints: false
Supports Statistics: false
Supports Advanced Queries: false
Use StandardizedQueries: true
Raster Type Infos:
Name: Raster Dataset
Description: Supports all ArcGIS Raster Datasets
Help:
Has Raster Attribute Table: false
Edit Fields Info: null
Ownership Based AccessControl For Rasters: null
Child Resources:
Info
Histograms
Statistics
Key Properties
Legend
Raster Function Infos
Supported Operations:
Export Image
Identify
Measure
Compute Histograms
Compute Statistics Histograms
Get Samples
Compute Class Statistics
Query Boundary
Compute Pixel Location
Compute Angles
Validate
Project