View In:
ArcGIS JavaScript
ArcGIS Online Map Viewer
ArcGIS Earth
Service Description: r10-KenaiCanopyCoverPopUp
Name: r10/KenaiCanopyCoverPopUp
Description: r10-KenaiCanopyCoverPopUp
Single Fused Map Cache: false
Extent:
XMin: 214155.0004
YMin: 6558481.77692824
XMax: 416090.0004
YMax: 6773066.77692824
Spatial Reference: 26906
(26906)
LatestVCSWkid(0)
Initial Extent:
XMin: 214155.0004
YMin: 6558481.77692824
XMax: 416090.0004
YMax: 6773066.77692824
Spatial Reference: 26906
(26906)
LatestVCSWkid(0)
Full Extent:
XMin: 214155.0004
YMin: 6558481.77692824
XMax: 416090.0004
YMax: 6773066.77692824
Spatial Reference: 26906
(26906)
LatestVCSWkid(0)
Pixel Size X: 5.000000000000001
Pixel Size Y: 5.0
Band Count: 1
Pixel Type: S8
RasterFunction Infos: {"rasterFunctionInfos": [{
"name": "None",
"description": "",
"help": ""
}]}
Mensuration Capabilities: Basic
Inspection Capabilities:
Has Histograms: false
Has Colormap: false
Has Multi Dimensions : false
Rendering Rule:
Min Scale: 0
Max Scale: 0
Copyright Text:
Service Data Type: esriImageServiceDataTypeThematic
Min Values: 0
Max Values: 100
Mean Values: 10.561508862086532
Standard Deviation Values: 18.16769216768553
Object ID Field:
Fields:
None
Default Mosaic Method: Center
Allowed Mosaic Methods:
SortField:
SortValue: null
Mosaic Operator: First
Default Compression Quality: 75
Default Resampling Method: Bilinear
Max Record Count: null
Max Image Height: 4100
Max Image Width: 15000
Max Download Image Count: null
Max Mosaic Image Count: null
Allow Raster Function: true
Allow Copy: true
Allow Analysis: true
Allow Compute TiePoints: false
Supports Statistics: false
Supports Advanced Queries: false
Use StandardizedQueries: true
Raster Type Infos:
Name: Raster Dataset
Description: Supports all ArcGIS Raster Datasets
Help:
Has Raster Attribute Table: true
Edit Fields Info: null
Ownership Based AccessControl For Rasters: null
Child Resources:
Info
Raster Attribute Table
Statistics
Key Properties
Legend
Raster Function Infos
Supported Operations:
Export Image
Identify
Measure
Compute Histograms
Compute Statistics Histograms
Get Samples
Compute Class Statistics
Query Boundary
Compute Pixel Location
Compute Angles
Validate
Project