View In:
ArcGIS JavaScript
ArcGIS Online Map Viewer
ArcGIS Earth
Service Description: r06-R06_NWFP_MarbledMurreletNestingHabitat_20Yr
Name: r06/R06_NWFP_MarbledMurreletNestingHabitat_20Yr
Description: r06-R06_NWFP_MarbledMurreletNestingHabitat_20Yr
Single Fused Map Cache: false
Extent:
XMin: 220620.0
YMin: 424980.0
XMax: 525870.0
YMax: 1664370.0
Spatial Reference: 0
(0)
LatestVCSWkid(0)
Initial Extent:
XMin: 220620.0
YMin: 424980.0
XMax: 525870.0
YMax: 1664370.0
Spatial Reference: 0
(0)
LatestVCSWkid(0)
Full Extent:
XMin: 220620.0
YMin: 424980.0
XMax: 525870.0
YMax: 1664370.0
Spatial Reference: 0
(0)
LatestVCSWkid(0)
Pixel Size X: 30.0
Pixel Size Y: 30.0
Band Count: 1
Pixel Type: U4
RasterFunction Infos: {"rasterFunctionInfos": [{
"name": "None",
"description": "",
"help": ""
}]}
Mensuration Capabilities: Basic
Inspection Capabilities:
Has Histograms: false
Has Colormap: false
Has Multi Dimensions : false
Rendering Rule:
Min Scale: 0
Max Scale: 0
Copyright Text: Raphael, Martin G.; Falxa, Gary A.; Lynch, Deanna; Nelson, S. Kim; Pearson, Scott F.; Shirk, Andrew J.; Young, Richard D. (in press). Status and trend of nesting habitat for the marbled murrelet under the Northwest Forest Plan. In: G.A. Falxa and M.G. Raphael, tech. coords. Northwest Forest Plan?the first 20 years (1994-2013): status and trend of marbled murrelet populations and nesting habitat. Gen. Tech. Rep. PNW-GTR-XXX. Portland, OR: U.S. Department of Agriculture, Forest Service, Pacific Northwest Research Station: Chapter 2. Draft available at: http://www.reo.gov/monitoring/reports/20yr-report
Service Data Type: esriImageServiceDataTypeGeneric
Min Values: 1
Max Values: 4
Mean Values: 1.5044484029327316
Standard Deviation Values: 0.7373611550654287
Object ID Field:
Fields:
None
Default Mosaic Method: Center
Allowed Mosaic Methods:
SortField:
SortValue: null
Mosaic Operator: First
Default Compression Quality: 75
Default Resampling Method: Bilinear
Max Record Count: null
Max Image Height: 4100
Max Image Width: 15000
Max Download Image Count: null
Max Mosaic Image Count: null
Allow Raster Function: true
Allow Copy: true
Allow Analysis: true
Allow Compute TiePoints: false
Supports Statistics: false
Supports Advanced Queries: false
Use StandardizedQueries: true
Raster Type Infos:
Name: Raster Dataset
Description: Supports all ArcGIS Raster Datasets
Help:
Has Raster Attribute Table: true
Edit Fields Info: null
Ownership Based AccessControl For Rasters: null
Child Resources:
Info
Raster Attribute Table
Statistics
Key Properties
Legend
Raster Function Infos
Supported Operations:
Export Image
Identify
Measure
Compute Histograms
Compute Statistics Histograms
Get Samples
Compute Class Statistics
Query Boundary
Compute Pixel Location
Compute Angles
Validate
Project