View In:
ArcGIS JavaScript
ArcGIS Online Map Viewer
ArcGIS Earth
Service Description: r04-geology_grid
Name: r04/geology_grid
Description: r04-geology_grid
Single Fused Map Cache: false
Extent:
XMin: -26633.411199999973
YMin: 4590068.3728
XMax: 212916.58880000003
YMax: 4995398.3728
Spatial Reference: 26913
(26913)
LatestVCSWkid(0)
Initial Extent:
XMin: -26633.411199999973
YMin: 4590068.3728
XMax: 212916.58880000003
YMax: 4995398.3728
Spatial Reference: 26913
(26913)
LatestVCSWkid(0)
Full Extent:
XMin: -26633.411199999973
YMin: 4590068.3728
XMax: 212916.58880000003
YMax: 4995398.3728
Spatial Reference: 26913
(26913)
LatestVCSWkid(0)
Pixel Size X: 30.0
Pixel Size Y: 30.0
Band Count: 1
Pixel Type: S8
RasterFunction Infos: {"rasterFunctionInfos": [{
"name": "None",
"description": "",
"help": ""
}]}
Mensuration Capabilities: Basic
Inspection Capabilities:
Has Histograms: false
Has Colormap: false
Has Multi Dimensions : false
Rendering Rule:
Min Scale: 0
Max Scale: 0
Copyright Text:
Service Data Type: esriImageServiceDataTypeThematic
Min Values: 1
Max Values: 30
Mean Values: 11.766619623509895
Standard Deviation Values: 7.176548487597282
Object ID Field:
Fields:
None
Default Mosaic Method: Center
Allowed Mosaic Methods:
SortField:
SortValue: null
Mosaic Operator: First
Default Compression Quality: 75
Default Resampling Method: Bilinear
Max Record Count: null
Max Image Height: 4100
Max Image Width: 15000
Max Download Image Count: null
Max Mosaic Image Count: null
Allow Raster Function: true
Allow Copy: true
Allow Analysis: true
Allow Compute TiePoints: false
Supports Statistics: false
Supports Advanced Queries: false
Use StandardizedQueries: true
Raster Type Infos:
Name: Raster Dataset
Description: Supports all ArcGIS Raster Datasets
Help:
Has Raster Attribute Table: true
Edit Fields Info: null
Ownership Based AccessControl For Rasters: null
Child Resources:
Info
Raster Attribute Table
Statistics
Key Properties
Legend
Raster Function Infos
Supported Operations:
Export Image
Identify
Measure
Compute Histograms
Compute Statistics Histograms
Get Samples
Compute Class Statistics
Query Boundary
Compute Pixel Location
Compute Angles
Validate
Project