View In:
ArcGIS JavaScript
ArcGIS Online Map Viewer
ArcGIS Earth
Service Description: This data set contains imagery from the National Agriculture Imagery Program (NAIP). NAIP acquires digital ortho imagery during the agricultural growing seasons in the continental U.S. A primary goal of the NAIP program is to enable availability of ortho imagery within one year of acquisition. NAIP provides two main products: 1 meter/60 centimeter ground sample distance (GSD) ortho imagery rectified to a horizontal accuracy of within +/- 5 meters of reference digital ortho quarter quads (DOQQs) from the National Digital Ortho Program (NDOP); and 1 meter/60 centimeter GSD ortho imagery rectified to within +/- 6 meters to true ground. The tiling format of NAIP imagery is based on a 3.75 x 3.75 quarter quadrangle with a 300 meter buffer on all four sides. NAIP quarter quads are formatted to the UTM coordinate system using NAD83. The NAIP services are published in Web Mercator. NAIP imagery may contain as much as 10% cloud cover per tile.
Name: r02/WY_2022imagery_MullenFire
Description: This data set contains imagery from the National Agriculture Imagery Program (NAIP). NAIP acquires digital ortho imagery during the agricultural growing seasons in the continental U.S. A primary goal of the NAIP program is to enable availability of ortho imagery within one year of acquisition. NAIP provides two main products: 1 meter/60 centimeter ground sample distance (GSD) ortho imagery rectified to a horizontal accuracy of within +/- 5 meters of reference digital ortho quarter quads (DOQQs) from the National Digital Ortho Program (NDOP); and 1 meter/60 centimeter GSD ortho imagery rectified to within +/- 6 meters to true ground. The tiling format of NAIP imagery is based on a 3.75 x 3.75 quarter quadrangle with a 300 meter buffer on all four sides. NAIP quarter quads are formatted to the UTM coordinate system using NAD83. The NAIP services are published in Web Mercator. NAIP imagery may contain as much as 10% cloud cover per tile.
Single Fused Map Cache: false
Extent:
XMin: -1.18700215537E7
YMin: 5002688.771600009
XMax: -1.177844955370001E7
YMax: 5068350.371600002
Spatial Reference: 102100
(3857)
LatestVCSWkid(0)
Initial Extent:
XMin: -1.18700215537E7
YMin: 5002688.771600009
XMax: -1.177844955370001E7
YMax: 5068350.371600002
Spatial Reference: 102100
(3857)
LatestVCSWkid(0)
Full Extent:
XMin: -1.18700215537E7
YMin: 5002688.771600009
XMax: -1.177844955370001E7
YMax: 5068350.371600002
Spatial Reference: 102100
(3857)
LatestVCSWkid(0)
Pixel Size X: 0.599999999999939
Pixel Size Y: 0.599999999999937
Band Count: 4
Pixel Type: U8
RasterFunction Infos: {"rasterFunctionInfos": [{
"name": "None",
"description": "",
"help": ""
}]}
Mensuration Capabilities: None
Inspection Capabilities:
Has Histograms: true
Has Colormap: false
Has Multi Dimensions : false
Rendering Rule:
Min Scale: 0
Max Scale: 0
Copyright Text: USDA - FSA - FPAC
Service Data Type: esriImageServiceDataTypeGeneric
Min Values: 5, 15, 22, 1
Max Values: 255, 255, 254, 255
Mean Values: 110.41204806515245, 108.01481317426182, 94.7967480797398, 131.91133218837922
Standard Deviation Values: 43.838467388170706, 35.96039172224206, 31.855605455361587, 39.198118202815856
Object ID Field: OBJECTID
Fields:
-
OBJECTID
(
type: esriFieldTypeOID, alias: OBJECTID
)
-
Shape
(
type: esriFieldTypeGeometry, alias: Shape
)
-
Name
(
type: esriFieldTypeString, alias: Name, length: 200
)
-
MinPS
(
type: esriFieldTypeDouble, alias: MinPS
)
-
MaxPS
(
type: esriFieldTypeDouble, alias: MaxPS
)
-
LowPS
(
type: esriFieldTypeDouble, alias: LowPS
)
-
HighPS
(
type: esriFieldTypeDouble, alias: HighPS
)
-
Category
(
type: esriFieldTypeInteger, alias: Category
, Coded Values:
[0: Unknown]
, [1: Primary]
, [2: Overview]
, ...6 more...
)
-
Tag
(
type: esriFieldTypeString, alias: Tag, length: 100
)
-
GroupName
(
type: esriFieldTypeString, alias: GroupName, length: 100
)
-
ProductName
(
type: esriFieldTypeString, alias: ProductName, length: 100
)
-
CenterX
(
type: esriFieldTypeDouble, alias: CenterX
)
-
CenterY
(
type: esriFieldTypeDouble, alias: CenterY
)
-
ZOrder
(
type: esriFieldTypeInteger, alias: ZOrder
)
-
Shape_Length
(
type: esriFieldTypeDouble, alias: Shape_Length
)
-
Shape_Area
(
type: esriFieldTypeDouble, alias: Shape_Area
)
Default Mosaic Method: Northwest
Allowed Mosaic Methods: NorthWest,Center,LockRaster,ByAttribute,Nadir,Viewpoint,Seamline,None
SortField:
SortValue: null
Mosaic Operator: First
Default Compression Quality: 75
Default Resampling Method: Bilinear
Max Record Count: 1000
Max Image Height: 4100
Max Image Width: 15000
Max Download Image Count: 20
Max Mosaic Image Count: 20
Allow Raster Function: true
Allow Copy: true
Allow Analysis: true
Allow Compute TiePoints: false
Supports Statistics: true
Supports Advanced Queries: true
Use StandardizedQueries: true
Raster Type Infos:
Name: Raster Dataset
Description: Supports all ArcGIS Raster Datasets
Help:
Has Raster Attribute Table: false
Edit Fields Info: null
Ownership Based AccessControl For Rasters: null
Child Resources:
Info
Histograms
Statistics
Key Properties
Legend
Raster Function Infos
Supported Operations:
Export Image
Query
Identify
Compute Histograms
Compute Statistics Histograms
Get Samples
Compute Class Statistics
Query GPS Info
Find Images
Image to Map
Map to Image
Measure from Image
Image to Map Multiray
Query Boundary
Compute Pixel Location
Compute Angles
Validate
Project