View In:
ArcGIS JavaScript
ArcGIS Online Map Viewer
ArcGIS Earth
Service Description: pnw-WWETAC_SoCal_CalFire_FRAP_USFS_own_ELU
Name: pnw/WWETAC_SoCal_CalFire_FRAP_USFS_own_ELU
Description: pnw-WWETAC_SoCal_CalFire_FRAP_USFS_own_ELU
Single Fused Map Cache: false
Extent:
XMin: -287099.9999999996
YMin: -720660.0
XMax: 453300.0000000004
YMax: -31680.0
Spatial Reference: 0
(0)
LatestVCSWkid(0)
Initial Extent:
XMin: -287099.9999999996
YMin: -720660.0
XMax: 453300.0000000004
YMax: -31680.0
Spatial Reference: 0
(0)
LatestVCSWkid(0)
Full Extent:
XMin: -287099.9999999996
YMin: -720660.0
XMax: 453300.0000000004
YMax: -31680.0
Spatial Reference: 0
(0)
LatestVCSWkid(0)
Pixel Size X: 30.0
Pixel Size Y: 30.0
Band Count: 1
Pixel Type: S32
RasterFunction Infos: {"rasterFunctionInfos": [{
"name": "None",
"description": "",
"help": ""
}]}
Mensuration Capabilities: Basic
Inspection Capabilities:
Has Histograms: true
Has Colormap: false
Has Multi Dimensions : false
Rendering Rule:
Min Scale: 0
Max Scale: 0
Copyright Text:
Service Data Type: esriImageServiceDataTypeGeneric
Min Values: 1
Max Values: 6648
Mean Values: 2406.3542200804036
Standard Deviation Values: 1558.4643525314966
Object ID Field:
Fields:
None
Default Mosaic Method: Center
Allowed Mosaic Methods:
SortField:
SortValue: null
Mosaic Operator: First
Default Compression Quality: 75
Default Resampling Method: Bilinear
Max Record Count: null
Max Image Height: 4100
Max Image Width: 15000
Max Download Image Count: null
Max Mosaic Image Count: null
Allow Raster Function: true
Allow Copy: true
Allow Analysis: true
Allow Compute TiePoints: false
Supports Statistics: false
Supports Advanced Queries: false
Use StandardizedQueries: true
Raster Type Infos:
Name: Raster Dataset
Description: Supports all ArcGIS Raster Datasets
Help:
Has Raster Attribute Table: true
Edit Fields Info: null
Ownership Based AccessControl For Rasters: null
Child Resources:
Info
Raster Attribute Table
Histograms
Statistics
Key Properties
Legend
Raster Function Infos
Supported Operations:
Export Image
Identify
Measure
Compute Histograms
Compute Statistics Histograms
Get Samples
Compute Class Statistics
Query Boundary
Compute Pixel Location
Compute Angles
Validate
Project