View In:
ArcGIS JavaScript
ArcGIS Online Map Viewer
ArcGIS Earth
Service Description: Standing dead biomass in kg/m2 for southern California in 2021. Schrader-Patton and Underwood, 2021.
Name: wwetac/SDBM_2021
Description: Standing dead biomass in kg/m2 for southern California in 2021. Schrader-Patton and Underwood, 2021.
Single Fused Map Cache: false
Extent:
XMin: -174810.0
YMin: -604595.7965636083
XMax: 444219.9744786379
YMax: -136448.3376940295
Spatial Reference: 0
(0)
LatestVCSWkid(0)
Initial Extent:
XMin: -174810.0
YMin: -604595.7965636083
XMax: 444219.9744786379
YMax: -136448.3376940295
Spatial Reference: 0
(0)
LatestVCSWkid(0)
Full Extent:
XMin: -174810.0
YMin: -604595.7965636083
XMax: 444219.9744786379
YMax: -136448.3376940295
Spatial Reference: 0
(0)
LatestVCSWkid(0)
Pixel Size X: 35.7965636083177
Pixel Size Y: 35.7965636083177
Band Count: 1
Pixel Type: F64
RasterFunction Infos: {"rasterFunctionInfos": [{
"name": "None",
"description": "",
"help": ""
}]}
Mensuration Capabilities: Basic
Inspection Capabilities:
Has Histograms: true
Has Colormap: false
Has Multi Dimensions : false
Rendering Rule:
Min Scale: 0
Max Scale: 0
Copyright Text:
Service Data Type: esriImageServiceDataTypeGeneric
Min Values: 1.1010360413996E-4
Max Values: 1.79E308
Mean Values: 1.550577503357E308
Standard Deviation Values: 1.7976931348623157E308
Object ID Field:
Fields:
None
Default Mosaic Method: Center
Allowed Mosaic Methods:
SortField:
SortValue: null
Mosaic Operator: First
Default Compression Quality: 75
Default Resampling Method: Bilinear
Max Record Count: null
Max Image Height: 4100
Max Image Width: 15000
Max Download Image Count: null
Max Mosaic Image Count: null
Allow Raster Function: true
Allow Copy: true
Allow Analysis: true
Allow Compute TiePoints: false
Supports Statistics: false
Supports Advanced Queries: false
Use StandardizedQueries: true
Raster Type Infos:
Name: Raster Dataset
Description: Supports all ArcGIS Raster Datasets
Help:
Has Raster Attribute Table: false
Edit Fields Info: null
Ownership Based AccessControl For Rasters: null
Child Resources:
Info
Histograms
Statistics
Key Properties
Legend
Raster Function Infos
Supported Operations:
Export Image
Identify
Measure
Compute Histograms
Compute Statistics Histograms
Get Samples
Compute Class Statistics
Query Boundary
Compute Pixel Location
Compute Angles
Validate
Project