View In:
ArcGIS JavaScript
ArcGIS Online Map Viewer
ArcGIS Earth
Service Description: This raster image service is an estimate of the proportion of shrub species biomass that are resprouters in southern California. It was created using a multinomial model using a variety of covariates, including the median NDVI and median live biomass (2001-2020) and FIA plot data and time since fire (TSF). TSF was set at 32 as this is the median TSF value for all the FIA plots used in the model.The model creates 5 individual proportion estimates of shrub life history types, and tree and herb components:Shrub life history types: Facultative seeders, seeders, resproutersPlant types: Tree, herb.
Name: wwetac/Resprouters_pp_8b
Description: This raster image service is an estimate of the proportion of shrub species biomass that are resprouters in southern California. It was created using a multinomial model using a variety of covariates, including the median NDVI and median live biomass (2001-2020) and FIA plot data and time since fire (TSF). TSF was set at 32 as this is the median TSF value for all the FIA plots used in the model.The model creates 5 individual proportion estimates of shrub life history types, and tree and herb components:Shrub life history types: Facultative seeders, seeders, resproutersPlant types: Tree, herb.
Single Fused Map Cache: false
Extent:
XMin: -174810.0
YMin: -604590.0
XMax: 444210.0
YMax: -136440.0
Spatial Reference: 0
(0)
LatestVCSWkid(0)
Initial Extent:
XMin: -174810.0
YMin: -604590.0
XMax: 444210.0
YMax: -136440.0
Spatial Reference: 0
(0)
LatestVCSWkid(0)
Full Extent:
XMin: -174810.0
YMin: -604590.0
XMax: 444210.0
YMax: -136440.0
Spatial Reference: 0
(0)
LatestVCSWkid(0)
Pixel Size X: 30.0
Pixel Size Y: 30.0
Band Count: 1
Pixel Type: U8
RasterFunction Infos: {"rasterFunctionInfos": [{
"name": "None",
"description": "",
"help": ""
}]}
Mensuration Capabilities: Basic
Inspection Capabilities:
Has Histograms: true
Has Colormap: false
Has Multi Dimensions : false
Rendering Rule:
Min Scale: 0
Max Scale: 0
Copyright Text:
Service Data Type: esriImageServiceDataTypeGeneric
Min Values: 0
Max Values: 82
Mean Values: 2.9497633229146
Standard Deviation Values: 7.4220989205105
Object ID Field:
Fields:
None
Default Mosaic Method: Center
Allowed Mosaic Methods:
SortField:
SortValue: null
Mosaic Operator: First
Default Compression Quality: 75
Default Resampling Method: Bilinear
Max Record Count: null
Max Image Height: 4100
Max Image Width: 15000
Max Download Image Count: null
Max Mosaic Image Count: null
Allow Raster Function: true
Allow Copy: true
Allow Analysis: true
Allow Compute TiePoints: false
Supports Statistics: false
Supports Advanced Queries: false
Use StandardizedQueries: true
Raster Type Infos:
Name: Raster Dataset
Description: Supports all ArcGIS Raster Datasets
Help:
Has Raster Attribute Table: false
Edit Fields Info: null
Ownership Based AccessControl For Rasters: null
Child Resources:
Info
Histograms
Statistics
Key Properties
Legend
Raster Function Infos
Supported Operations:
Export Image
Identify
Measure
Compute Histograms
Compute Statistics Histograms
Get Samples
Compute Class Statistics
Query Boundary
Compute Pixel Location
Compute Angles
Validate
Project