View In:
ArcGIS JavaScript
ArcGIS Online Map Viewer
ArcGIS Earth
Service Description: LItter/duff biomass in kg/m2 for southern California in 2021. Schrader-Patton and Underwood, 2021.charlie.schrader-patton@usda.gov
Name: wwetac/LDBM_2021
Description: LItter/duff biomass in kg/m2 for southern California in 2021. Schrader-Patton and Underwood, 2021.charlie.schrader-patton@usda.gov
Single Fused Map Cache: false
Extent:
XMin: -121.96127664288073
YMin: 32.47091313485035
XMax: -115.22590788502276
YMax: 36.78883567917386
Spatial Reference: 4326
(4326)
LatestVCSWkid(0)
Initial Extent:
XMin: -121.96127664288073
YMin: 32.47091313485035
XMax: -115.22590788502276
YMax: 36.78883567917386
Spatial Reference: 4326
(4326)
LatestVCSWkid(0)
Full Extent:
XMin: -121.96127664288073
YMin: 32.47091313485035
XMax: -115.22590788502276
YMax: 36.78883567917386
Spatial Reference: 4326
(4326)
LatestVCSWkid(0)
Pixel Size X: 3.600068821346929E-4
Pixel Size Y: 3.6000688213469305E-4
Band Count: 1
Pixel Type: F32
RasterFunction Infos: {"rasterFunctionInfos": [{
"name": "None",
"description": "",
"help": ""
}]}
Mensuration Capabilities: Basic
Inspection Capabilities:
Has Histograms: true
Has Colormap: false
Has Multi Dimensions : false
Rendering Rule:
Min Scale: 0
Max Scale: 0
Copyright Text:
Service Data Type: esriImageServiceDataTypeThematic
Min Values: -3.4028234663853E38
Max Values: 48.083000183105
Mean Values: -2.9601382984639E38
Standard Deviation Values: 1.144731115043E38
Object ID Field:
Fields:
None
Default Mosaic Method: Center
Allowed Mosaic Methods:
SortField:
SortValue: null
Mosaic Operator: First
Default Compression Quality: 75
Default Resampling Method: Bilinear
Max Record Count: null
Max Image Height: 4100
Max Image Width: 15000
Max Download Image Count: null
Max Mosaic Image Count: null
Allow Raster Function: true
Allow Copy: true
Allow Analysis: true
Allow Compute TiePoints: false
Supports Statistics: false
Supports Advanced Queries: false
Use StandardizedQueries: true
Raster Type Infos:
Name: Raster Dataset
Description: Supports all ArcGIS Raster Datasets
Help:
Has Raster Attribute Table: false
Edit Fields Info: null
Ownership Based AccessControl For Rasters: null
Child Resources:
Info
Histograms
Statistics
Key Properties
Legend
Raster Function Infos
Supported Operations:
Export Image
Identify
Measure
Compute Histograms
Compute Statistics Histograms
Get Samples
Compute Class Statistics
Query Boundary
Compute Pixel Location
Compute Angles
Validate
Project