View In:
ArcGIS JavaScript
ArcGIS Online Map Viewer
ArcGIS Earth
Service Description: Utilities2-TreeMap2016_CONUS_StandHt_WM_mrf
Name: Utilities2/TreeMap2016_CONUS_StandHt_WM_mrf
Description: Utilities2-TreeMap2016_CONUS_StandHt_WM_mrf
Single Fused Map Cache: false
Extent:
XMin: -1.424964439740634E7
YMin: 2603727.28069144
XMax: -7262644.39740634
YMax: 6742197.28069144
Spatial Reference: 102100
(3857)
Initial Extent:
XMin: -1.424964439740634E7
YMin: 2603727.28069144
XMax: -7262644.39740634
YMax: 6742197.28069144
Spatial Reference: 102100
(3857)
Full Extent:
XMin: -1.424964439740634E7
YMin: 2603727.28069144
XMax: -7262644.39740634
YMax: 6742197.28069144
Spatial Reference: 102100
(3857)
Pixel Size X: 30.0
Pixel Size Y: 30.0
Band Count: 1
Pixel Type: F32
RasterFunction Infos: {"rasterFunctionInfos": [{
"name": "None",
"description": "",
"help": ""
}]}
Mensuration Capabilities: Basic
Has Histograms: true
Has Colormap: false
Has Multi Dimensions : false
Rendering Rule:
Min Scale: 0
Max Scale: 0
Copyright Text:
Service Data Type: esriImageServiceDataTypeGeneric
Min Values: 0
Max Values: 292
Mean Values: 56.807358521228
Standard Deviation Values: 22.244669625025
Object ID Field:
Fields:
None
Default Mosaic Method: Center
Allowed Mosaic Methods:
SortField:
SortValue: null
Mosaic Operator: First
Default Compression Quality: 75
Default Resampling Method: Bilinear
Max Record Count: null
Max Image Height: 4100
Max Image Width: 15000
Max Download Image Count: null
Max Mosaic Image Count: null
Allow Raster Function: true
Allow Copy: true
Allow Analysis: true
Allow Compute TiePoints: false
Supports Statistics: false
Supports Advanced Queries: false
Use StandardizedQueries: true
Raster Type Infos:
Name: Raster Dataset
Description: Supports all ArcGIS Raster Datasets
Help:
Has Raster Attribute Table: false
Edit Fields Info: null
Ownership Based AccessControl For Rasters: null
Child Resources:
Info
Histograms
Statistics
Key Properties
Legend
Raster Function Infos
Supported Operations:
Export Image
Identify
Measure
Compute Histograms
Compute Statistics Histograms
Get Samples
Compute Class Statistics
Query Boundary
Compute Pixel Location
Compute Angles
Validate
Project