View In:
ArcGIS JavaScript
ArcGIS Online Map Viewer
ArcGIS Earth
Service Description: National burn probability (BP) and conditional fire intensity level (FIL) data were generated for the conterminous United States (US) using a geospatial Fire Simulation (FSim) system developed by the US Forest Service Missoula Fire Sciences Laboratory to estimate probabilistic components of wildfire risk (Finney et al. [2011]). The FSim system includes modules for weather generation, wildfire occurrence, fire growth, and fire suppression. FSim is designed to simulate the occurrence and growth of wildfires under tens of thousands of hypothetical contemporary fire seasons in order to estimate the probability of a given area (i.e., pixel) burning under current landscape conditions and fire management practices. The data presented here represent modeled BP and FIL for the conterminous US at a 270-meter grid spatial resolution. The six FILs correspond to flame-length classes as follows: FIL1 = < 2 feet (ft); FIL2 = 2 < 4 ft.; FIL3 = 4 < 6 ft.; FIL4 = 6 < 8 ft.; FIL5 = 8 < 12 ft.; FIL6 = 12+ ft. Because they indicate conditional probabilities (i.e., representing the likelihood of burning at a certain intensity level, given that a fire occurs), the FIL*_20160830 data must be used in conjunction with the BP_20160830 data for risk assessment.
Name: Utilities2/TEST_FLP_HI
Description: National burn probability (BP) and conditional fire intensity level (FIL) data were generated for the conterminous United States (US) using a geospatial Fire Simulation (FSim) system developed by the US Forest Service Missoula Fire Sciences Laboratory to estimate probabilistic components of wildfire risk (Finney et al. [2011]). The FSim system includes modules for weather generation, wildfire occurrence, fire growth, and fire suppression. FSim is designed to simulate the occurrence and growth of wildfires under tens of thousands of hypothetical contemporary fire seasons in order to estimate the probability of a given area (i.e., pixel) burning under current landscape conditions and fire management practices. The data presented here represent modeled BP and FIL for the conterminous US at a 270-meter grid spatial resolution. The six FILs correspond to flame-length classes as follows: FIL1 = < 2 feet (ft); FIL2 = 2 < 4 ft.; FIL3 = 4 < 6 ft.; FIL4 = 6 < 8 ft.; FIL5 = 8 < 12 ft.; FIL6 = 12+ ft. Because they indicate conditional probabilities (i.e., representing the likelihood of burning at a certain intensity level, given that a fire occurs), the FIL*_20160830 data must be used in conjunction with the BP_20160830 data for risk assessment.
Single Fused Map Cache: false
Extent:
XMin: -1.78787591705E7
YMin: 2135770.209299999
XMax: -1.72242791705E7
YMax: 2547250.209299999
Spatial Reference: 102100
(3857)
Initial Extent:
XMin: -1.78787591705E7
YMin: 2135770.209299999
XMax: -1.72242791705E7
YMax: 2547250.209299999
Spatial Reference: 102100
(3857)
Full Extent:
XMin: -1.78787591705E7
YMin: 2135770.209299999
XMax: -1.72242791705E7
YMax: 2547250.209299999
Spatial Reference: 102100
(3857)
Pixel Size X: 270.0
Pixel Size Y: 270.0
Band Count: 6
Pixel Type: F32
RasterFunction Infos: {"rasterFunctionInfos": [{
"name": "None",
"description": "",
"help": ""
}]}
Mensuration Capabilities: None
Has Histograms: true
Has Colormap: false
Has Multi Dimensions : false
Rendering Rule:
Min Scale: 0
Max Scale: 0
Copyright Text: USDA Forest Service, Rocky Mountain Research Station, Missoula Fire Sciences Laboratory
This contact information was current as original publication date. For current information see Contact Us page on: https://doi.org/10.2737/RDS.
Service Data Type: esriImageServiceDataTypeThematic
Min Values: 0, 0, 0, 0, 0, 0
Max Values: 1, 1, 1, 1, 1, 1
Mean Values: 0.03215199140036444, 0.15180320389942825, 0.12585647440247763, 0.08033915302596958, 0.06374370426810003, 0.0379981759791831
Standard Deviation Values: 0.12152616772729548, 0.23450412151252908, 0.16962284385607662, 0.12360979500227448, 0.12214439390514625, 0.13210960674331293
Object ID Field: OBJECTID
Fields:
-
OBJECTID
(
type: esriFieldTypeOID, alias: OBJECTID
)
-
Shape
(
type: esriFieldTypeGeometry, alias: Shape
)
-
Name
(
type: esriFieldTypeString, alias: Name, length: 200
)
-
MinPS
(
type: esriFieldTypeDouble, alias: MinPS
)
-
MaxPS
(
type: esriFieldTypeDouble, alias: MaxPS
)
-
LowPS
(
type: esriFieldTypeDouble, alias: LowPS
)
-
HighPS
(
type: esriFieldTypeDouble, alias: HighPS
)
-
Category
(
type: esriFieldTypeInteger, alias: Category
, Coded Values:
[0: Unknown]
, [1: Primary]
, [2: Overview]
, ...6 more...
)
-
Tag
(
type: esriFieldTypeString, alias: Tag, length: 100
)
-
GroupName
(
type: esriFieldTypeString, alias: GroupName, length: 100
)
-
ProductName
(
type: esriFieldTypeString, alias: ProductName, length: 100
)
-
CenterX
(
type: esriFieldTypeDouble, alias: CenterX
)
-
CenterY
(
type: esriFieldTypeDouble, alias: CenterY
)
-
ZOrder
(
type: esriFieldTypeInteger, alias: ZOrder
)
-
Shape_Length
(
type: esriFieldTypeDouble, alias: Shape_Length
)
-
Shape_Area
(
type: esriFieldTypeDouble, alias: Shape_Area
)
Default Mosaic Method: Northwest
Allowed Mosaic Methods: NorthWest,Center,LockRaster,ByAttribute,Nadir,Viewpoint,Seamline,None
SortField:
SortValue: null
Mosaic Operator: First
Default Compression Quality: 75
Default Resampling Method: Bilinear
Max Record Count: 1000
Max Image Height: 4100
Max Image Width: 15000
Max Download Image Count: 20
Max Mosaic Image Count: 20
Allow Raster Function: true
Allow Copy: true
Allow Analysis: true
Allow Compute TiePoints: false
Supports Statistics: true
Supports Advanced Queries: true
Use StandardizedQueries: true
Raster Type Infos:
Name: Raster Dataset
Description: Supports all ArcGIS Raster Datasets
Help:
Has Raster Attribute Table: false
Edit Fields Info: null
Ownership Based AccessControl For Rasters: null
Child Resources:
Info
Histograms
Statistics
Key Properties
Legend
Raster Function Infos
Supported Operations:
Export Image
Query
Identify
Compute Histograms
Compute Statistics Histograms
Get Samples
Compute Class Statistics
Query Boundary
Compute Pixel Location
Compute Angles
Validate
Project