View In:
ArcGIS JavaScript
ArcGIS Online Map Viewer
ArcGIS Earth
Service Description: Wildfire Suppression Difficulty Index (SDI) 97th Percentile is a rating of relative difficulty in performing fire control work under regionally appropriate fuel moisture and 15 mph uphill winds (@ 20 ft). SDI factors in topography, fuels, expected fire behavior under prevailing conditions, fireline production rates in various fuel types with and without heavy equipment, and access via roads, trails, or cross-country travel. SDI does not account for standing snags or other overhead hazards to firefighters, so it is not a firefighter hazard map. It is only showing in relative terms where it is harder or easier to perform suppression work.
Name: RDW_Wildfire/RMRS_Wildfire_Suppression_Difficulty_Index_97thPercentile
Description: Wildfire Suppression Difficulty Index (SDI) 97th Percentile is a rating of relative difficulty in performing fire control work under regionally appropriate fuel moisture and 15 mph uphill winds (@ 20 ft). SDI factors in topography, fuels, expected fire behavior under prevailing conditions, fireline production rates in various fuel types with and without heavy equipment, and access via roads, trails, or cross-country travel. SDI does not account for standing snags or other overhead hazards to firefighters, so it is not a firefighter hazard map. It is only showing in relative terms where it is harder or easier to perform suppression work.
Single Fused Map Cache: false
Extent:
XMin: -1.42381487887E7
YMin: 2618177.9734999985
XMax: -7272358.788699999
YMax: 6730397.973499998
Spatial Reference: 102100
(3857)
LatestVCSWkid(0)
Initial Extent:
XMin: -1.42381487887E7
YMin: 2618177.9734999985
XMax: -7272358.788699999
YMax: 6730397.973499998
Spatial Reference: 102100
(3857)
LatestVCSWkid(0)
Full Extent:
XMin: -1.42381487887E7
YMin: 2618177.9734999985
XMax: -7272358.788699999
YMax: 6730397.973499998
Spatial Reference: 102100
(3857)
LatestVCSWkid(0)
Pixel Size X: 30.0
Pixel Size Y: 30.0
Band Count: 1
Pixel Type: U16
RasterFunction Infos: {"rasterFunctionInfos": [
{
"name": "SDI",
"description": "SDI",
"help": ""
},
{
"name": "None",
"description": "Make a Raster or Raster Dataset into a Function Raster Dataset.",
"help": ""
}
]}
Mensuration Capabilities:
Inspection Capabilities:
Has Histograms: true
Has Colormap: false
Has Multi Dimensions : false
Rendering Rule:
Min Scale: 0
Max Scale: 0
Resampling: false
Copyright Text: USFS Chief Information Office, Enterprise Data Warehouse
Service Data Type: esriImageServiceDataTypeThematic
Min Values: 0
Max Values: 318
Mean Values: 21.796591916199294
Standard Deviation Values: 33.64747086148756
Object ID Field: OBJECTID
Fields:
-
OBJECTID
(
type: esriFieldTypeOID, alias: OBJECTID
)
-
Shape
(
type: esriFieldTypeGeometry, alias: Shape
)
-
Name
(
type: esriFieldTypeString, alias: Name, length: 200
)
-
MinPS
(
type: esriFieldTypeDouble, alias: MinPS
)
-
MaxPS
(
type: esriFieldTypeDouble, alias: MaxPS
)
-
LowPS
(
type: esriFieldTypeDouble, alias: LowPS
)
-
HighPS
(
type: esriFieldTypeDouble, alias: HighPS
)
-
Category
(
type: esriFieldTypeInteger, alias: Category
, Coded Values:
[0: Unknown]
, [1: Primary]
, [2: Overview]
, ...6 more...
)
-
Tag
(
type: esriFieldTypeString, alias: Tag, length: 100
)
-
GroupName
(
type: esriFieldTypeString, alias: GroupName, length: 100
)
-
ProductName
(
type: esriFieldTypeString, alias: ProductName, length: 100
)
-
CenterX
(
type: esriFieldTypeDouble, alias: CenterX
)
-
CenterY
(
type: esriFieldTypeDouble, alias: CenterY
)
-
ZOrder
(
type: esriFieldTypeInteger, alias: ZOrder
)
-
Shape_Length
(
type: esriFieldTypeDouble, alias: Shape_Length
)
-
Shape_Area
(
type: esriFieldTypeDouble, alias: Shape_Area
)
Default Mosaic Method: Northwest
Allowed Mosaic Methods: NorthWest,Center,LockRaster,ByAttribute,Nadir,Viewpoint,Seamline,None
SortField:
SortValue: null
Mosaic Operator: First
Default Compression Quality: 75
Default Resampling Method: Nearest
Max Record Count: 1000
Max Image Height: 50000
Max Image Width: 50000
Max Download Image Count: 20
Max Mosaic Image Count: 50
Allow Raster Function: true
Allow Copy: true
Allow Analysis: true
Allow Compute TiePoints: false
Supports Statistics: true
Supports Advanced Queries: true
Use StandardizedQueries: true
Raster Type Infos:
Name: Raster Dataset
Description: Supports all ArcGIS Raster Datasets
Help:
Has Raster Attribute Table: false
Edit Fields Info: null
Ownership Based AccessControl For Rasters: null
Child Resources:
Info
Histograms
Statistics
Key Properties
Legend
Raster Function Infos
Supported Operations:
Export Image
Query
Identify
Compute Histograms
Compute Statistics Histograms
Get Samples
Compute Class Statistics
Query GPS Info
Find Images
Image to Map
Map to Image
Measure from Image
Image to Map Multiray
Query Boundary
Compute Pixel Location
Compute Angles
Validate
Project