View In:
ArcGIS JavaScript
ArcGIS Online Map Viewer
ArcGIS Earth
Service Description: This data publication includes Community Wildfire Risk Reduction Zone rasters, products delivered as part of the Wildfire Risk to Communities project. There are two types of data included: 1) raster spatial data that delineate Community Wildfire Risk Reduction Zones for all populated areas in the continental United States (CONUS), Alaska, and Hawaii; and 2) tabular summaries by communities, counties, tribal areas, and states of wildfire hazard and risk produced as part of the Wildfire Risk to Communities (WRC) project. The Community Wildfire Risk Reduction Zones (CWiRRZ) product is a 30-m raster delineating areas where mitigation activities will be most effective at protecting homes from most types of wildfire. The zones are determined by the spatial coincidence of wildfire likelihood (Burn Probability), and populated areas. There are four Risk Reduction Zones: Minimal Exposure Zone, Indirect Exposure Zone, Direct Exposure Zone, and Wildfire Transmission Zone. However, the CWiRRZ raster can be further deconstructed into ten zones, wherein the Wildfire Transmission Zone is separated into the following surface fuel types: Tree, Shrub, Grass, Agriculture, Non-Vegetated, Water, and Outlying Wildlands (area beyond 2400-m from buildings). See the Wildfire Risk to Communities (WRC) website at https://www.wildfirerisk.org for complete project information and an interactive web application for exploring some of the data published here. These data are considered part of WCR 2.0 which also includes: 1) Scott et al. (2024) containing data regarding wildfire risk across all lands, and 2) Jaffe et al. (2024) containing wildfire risk across lands where only housing units current exist.
Name: RDW_Wildfire/RMRS_WRC_Community_Wildfire_Risk_Reduction_Zones_10Value
Description: This data publication includes Community Wildfire Risk Reduction Zone rasters, products delivered as part of the Wildfire Risk to Communities project. There are two types of data included: 1) raster spatial data that delineate Community Wildfire Risk Reduction Zones for all populated areas in the continental United States (CONUS), Alaska, and Hawaii; and 2) tabular summaries by communities, counties, tribal areas, and states of wildfire hazard and risk produced as part of the Wildfire Risk to Communities (WRC) project. The Community Wildfire Risk Reduction Zones (CWiRRZ) product is a 30-m raster delineating areas where mitigation activities will be most effective at protecting homes from most types of wildfire. The zones are determined by the spatial coincidence of wildfire likelihood (Burn Probability), and populated areas. There are four Risk Reduction Zones: Minimal Exposure Zone, Indirect Exposure Zone, Direct Exposure Zone, and Wildfire Transmission Zone. However, the CWiRRZ raster can be further deconstructed into ten zones, wherein the Wildfire Transmission Zone is separated into the following surface fuel types: Tree, Shrub, Grass, Agriculture, Non-Vegetated, Water, and Outlying Wildlands (area beyond 2400-m from buildings). See the Wildfire Risk to Communities (WRC) website at https://www.wildfirerisk.org for complete project information and an interactive web application for exploring some of the data published here. These data are considered part of WCR 2.0 which also includes: 1) Scott et al. (2024) containing data regarding wildfire risk across all lands, and 2) Jaffe et al. (2024) containing wildfire risk across lands where only housing units current exist.
Single Fused Map Cache: false
Extent:
XMin: -2.00375070672E7
YMin: 2136104.6613000035
XMax: 2.0037507842788246E7
YMax: 1.1596994661300004E7
Spatial Reference: 102100
(3857)
LatestVCSWkid(0)
Initial Extent:
XMin: -2.00375070672E7
YMin: 2136104.6613000035
XMax: 2.0037507842788246E7
YMax: 1.1596994661300004E7
Spatial Reference: 102100
(3857)
LatestVCSWkid(0)
Full Extent:
XMin: -2.00375070672E7
YMin: 2136104.6613000035
XMax: 2.0037507842788246E7
YMax: 1.1596994661300004E7
Spatial Reference: 102100
(3857)
LatestVCSWkid(0)
Pixel Size X: 29.99999618963752
Pixel Size Y: 30.0
Band Count: 1
Pixel Type: U8
RasterFunction Infos: {"rasterFunctionInfos": [
{
"name": "CWiRRZ 10 Value",
"description": "Community Wildfire Risk Reduction Zones RFT for the 10 Value Symbology",
"help": ""
},
{
"name": "None",
"description": "Make a Raster or Raster Dataset into a Function Raster Dataset.",
"help": ""
}
]}
Mensuration Capabilities: None
Inspection Capabilities:
Has Histograms: true
Has Colormap: false
Has Multi Dimensions : false
Rendering Rule:
Min Scale: 0
Max Scale: 0
Copyright Text: Funding for this project provided by USDA Forest Service, Fire and Aviation Management. Funding also provided by USDA Forest Service, Fire Modeling Institute, which is part of the Rocky Mountain Research Station, Fire, Fuel and Smoke Science Program. Work on dataset development was primarily completed by the USDA Forest Service, Fire Modeling Institute. Some salary was provided by FMI through an ORISE agreement under the U.S. Department of Energy (DE-SC0014664). Gregory K. Dillon USDA Forest Service, Rocky Mountain Research Station https://orcid.org/0009-0006-6304-650X Mitchell T. Lazarz USDA Forest Service, Rocky Mountain Research Station https://orcid.org/0000-0002-4558-4949 Eva C. Karau USDA Forest Service, Rocky Mountain Research Station https://orcid.org/0009-0009-6776-9387 Scott J. Story Headwaters Economics Kelly A. Pohl Headwaters Economics https://orcid.org/0009-0003-3876-5121
Service Data Type: esriImageServiceDataTypeThematic
Min Values: 0
Max Values: 9
Mean Values: 6.363554697897235
Standard Deviation Values: 2.3728670785045325
Object ID Field: OBJECTID
Fields:
-
OBJECTID
(
type: esriFieldTypeOID, alias: OBJECTID
)
-
Shape
(
type: esriFieldTypeGeometry, alias: Shape
)
-
Name
(
type: esriFieldTypeString, alias: Name, length: 200
)
-
MinPS
(
type: esriFieldTypeDouble, alias: MinPS
)
-
MaxPS
(
type: esriFieldTypeDouble, alias: MaxPS
)
-
LowPS
(
type: esriFieldTypeDouble, alias: LowPS
)
-
HighPS
(
type: esriFieldTypeDouble, alias: HighPS
)
-
Category
(
type: esriFieldTypeInteger, alias: Category
, Coded Values:
[0: Unknown]
, [1: Primary]
, [2: Overview]
, ...6 more...
)
-
Tag
(
type: esriFieldTypeString, alias: Tag, length: 100
)
-
GroupName
(
type: esriFieldTypeString, alias: GroupName, length: 100
)
-
ProductName
(
type: esriFieldTypeString, alias: ProductName, length: 100
)
-
CenterX
(
type: esriFieldTypeDouble, alias: CenterX
)
-
CenterY
(
type: esriFieldTypeDouble, alias: CenterY
)
-
ZOrder
(
type: esriFieldTypeInteger, alias: ZOrder
)
-
Shape_Length
(
type: esriFieldTypeDouble, alias: Shape_Length
)
-
Shape_Area
(
type: esriFieldTypeDouble, alias: Shape_Area
)
Default Mosaic Method: Northwest
Allowed Mosaic Methods: NorthWest,Center,LockRaster,ByAttribute,Nadir,Viewpoint,Seamline,None
SortField:
SortValue: null
Mosaic Operator: First
Default Compression Quality: 75
Default Resampling Method: Nearest
Max Record Count: 1000
Max Image Height: 50000
Max Image Width: 50000
Max Download Image Count: 20
Max Mosaic Image Count: 20
Allow Raster Function: true
Allow Copy: true
Allow Analysis: true
Allow Compute TiePoints: false
Supports Statistics: true
Supports Advanced Queries: true
Use StandardizedQueries: true
Raster Type Infos:
Name: Raster Dataset
Description: Supports all ArcGIS Raster Datasets
Help:
Has Raster Attribute Table: false
Edit Fields Info: null
Ownership Based AccessControl For Rasters: null
Child Resources:
Info
Histograms
Statistics
Key Properties
Legend
Raster Function Infos
Supported Operations:
Export Image
Query
Identify
Compute Histograms
Compute Statistics Histograms
Get Samples
Compute Class Statistics
Query GPS Info
Find Images
Image to Map
Map to Image
Measure from Image
Image to Map Multiray
Query Boundary
Compute Pixel Location
Compute Angles
Validate
Project