View In:
ArcGIS JavaScript
ArcGIS Online Map Viewer
ArcGIS Earth
Service Description: National data on burn probability (BP) and conditional flame-length probability (FLP) were generated for the conterminous United States (CONUS), Alaska, and Hawaii using a geospatial Fire Simulation (FSim) system developed by the USDA Forest Service Missoula Fire Sciences Laboratory. The FSim system includes modules for weather generation, wildfire occurrence, fire growth, and fire suppression. FSim is designed to simulate the occurrence and growth of wildfires under tens of thousands of hypothetical contemporary fire seasons in order to estimate the probability of a given area (i.e., pixel) burning under current landscape conditions and fire management practices. The data presented here represent modeled BP and FLPs for the United States (US) at a 270-meter grid spatial resolution. Flame-length probability is estimated for six standard Fire Intensity Levels. The six FLPs correspond to flame-length classes as follows: FLP1 = < 2 feet (ft); FLP2 = 2 < 4 ft.; FLP3 = 4 < 6 ft.; FLP4 = 6 < 8 ft.; FLP5 = 8 < 12 ft.; FLP6 = 12+ ft. Because they indicate conditional probabilities (i.e., representing the likelihood of burning at a certain intensity level, given that a fire occurs), the FLP data must be used in conjunction with the BP data for risk assessment.
Name: RDW_Wildfire/RMRS_ProbabilisticWildfireRisk_FLP3_CONUS
Description: National data on burn probability (BP) and conditional flame-length probability (FLP) were generated for the conterminous United States (CONUS), Alaska, and Hawaii using a geospatial Fire Simulation (FSim) system developed by the USDA Forest Service Missoula Fire Sciences Laboratory. The FSim system includes modules for weather generation, wildfire occurrence, fire growth, and fire suppression. FSim is designed to simulate the occurrence and growth of wildfires under tens of thousands of hypothetical contemporary fire seasons in order to estimate the probability of a given area (i.e., pixel) burning under current landscape conditions and fire management practices. The data presented here represent modeled BP and FLPs for the United States (US) at a 270-meter grid spatial resolution. Flame-length probability is estimated for six standard Fire Intensity Levels. The six FLPs correspond to flame-length classes as follows: FLP1 = < 2 feet (ft); FLP2 = 2 < 4 ft.; FLP3 = 4 < 6 ft.; FLP4 = 6 < 8 ft.; FLP5 = 8 < 12 ft.; FLP6 = 12+ ft. Because they indicate conditional probabilities (i.e., representing the likelihood of burning at a certain intensity level, given that a fire occurs), the FLP data must be used in conjunction with the BP data for risk assessment.
Single Fused Map Cache: false
Extent:
XMin: -2362635.000000001
YMin: 221264.99999999814
XMax: 2327804.999999999
YMax: 3267674.999999998
Spatial Reference: 5070
(5070)
LatestVCSWkid(0)
Initial Extent:
XMin: -2362635.000000001
YMin: 221264.99999999814
XMax: 2327804.999999999
YMax: 3267674.999999998
Spatial Reference: 5070
(5070)
LatestVCSWkid(0)
Full Extent:
XMin: -2362635.000000001
YMin: 221264.99999999814
XMax: 2327804.999999999
YMax: 3267674.999999998
Spatial Reference: 5070
(5070)
LatestVCSWkid(0)
Pixel Size X: 270.0
Pixel Size Y: 270.0
Band Count: 1
Pixel Type: S8
RasterFunction Infos: {"rasterFunctionInfos": [{
"name": "None",
"description": "",
"help": ""
}]}
Mensuration Capabilities: Basic
Inspection Capabilities:
Has Histograms: true
Has Colormap: false
Has Multi Dimensions : false
Rendering Rule:
Min Scale: 0
Max Scale: 0
Copyright Text: USDA Forest Service, Rocky Mountain Research Station, Missoula Fire Sciences Laboratory This contact information was current as original publication date. For current information see Contact Us page on: https://doi.org/10.2737/RDS.
Service Data Type: esriImageServiceDataTypeThematic
Min Values: 0
Max Values: 100
Mean Values: 16.223302369026
Standard Deviation Values: 20.361640829178
Object ID Field:
Fields:
None
Default Mosaic Method: Center
Allowed Mosaic Methods:
SortField:
SortValue: null
Mosaic Operator: First
Default Compression Quality: 75
Default Resampling Method: Nearest
Max Record Count: null
Max Image Height: 4100
Max Image Width: 15000
Max Download Image Count: null
Max Mosaic Image Count: null
Allow Raster Function: true
Allow Copy: true
Allow Analysis: true
Allow Compute TiePoints: false
Supports Statistics: false
Supports Advanced Queries: false
Use StandardizedQueries: true
Raster Type Infos:
Name: Raster Dataset
Description: Supports all ArcGIS Raster Datasets
Help:
Has Raster Attribute Table: true
Edit Fields Info: null
Ownership Based AccessControl For Rasters: null
Child Resources:
Info
Raster Attribute Table
Histograms
Statistics
Key Properties
Legend
Raster Function Infos
Supported Operations:
Export Image
Identify
Measure
Compute Histograms
Compute Statistics Histograms
Get Samples
Compute Class Statistics
Query Boundary
Compute Pixel Location
Compute Angles
Validate
Project