View In:
ArcGIS JavaScript
ArcGIS Online Map Viewer
ArcGIS Earth
Service Description: Production data were generated using the Normalized Difference Vegetation
Index (NDVI) from the Thematic Mapper Suite from 1984 to 2023 at 250 m resolution.
The NDVI is converted to production estimates using two regression formulas
depending on the level of the NDVI; there is one equation for lower values (and thus
lower production values) and one for higher values. This raster dataset yields
estimates of annual production of rangeland vegetation and should be useful for
understanding trends and variability in forage resources. These results were then
converted to Z-scores for easier comparison of annual relative productivity in
coterminous U.S. rangelands, and for rapid display in online time-enabled
applications.
Name: RDW_LandscapeAndWildlife/RangelandProductivity_ZScores_Albers
Description: Production data were generated using the Normalized Difference Vegetation Index (NDVI) from the Thematic Mapper Suite from 1984 to 2023 at 250 m resolution. The NDVI is converted to production estimates using two regression formulas depending on the level of the NDVI; there is one equation for lower values (and thus lower production values) and one for higher values. This raster dataset yields estimates of annual production of rangeland vegetation and should be useful for understanding trends and variability in forage resources. These results were then converted to Z-scores for easier comparison of annual relative productivity in coterminous U.S. rangelands, and for rapid display in online time-enabled applications.
Single Fused Map Cache: false
Extent:
XMin: -2362425.0
YMin: 309695.0
XMax: 805325.0
YMax: 3177445.0
Spatial Reference: 0
(0)
LatestVCSWkid(0)
Initial Extent:
XMin: -2362425.0
YMin: 309695.0
XMax: 805325.0
YMax: 3177445.0
Spatial Reference: 0
(0)
LatestVCSWkid(0)
Full Extent:
XMin: -2362425.0
YMin: 309695.0
XMax: 805325.0
YMax: 3177445.0
Spatial Reference: 0
(0)
LatestVCSWkid(0)
Time Info:
Start Time Field: BeginTime
End Time Field: EndTime
Time Extent:
[1984/01/01 00:00:00 UTC, 2023/12/31 00:00:00 UTC]
Time Reference:
N/A
Pixel Size X: 250.0
Pixel Size Y: 250.0
Band Count: 1
Pixel Type: S8
RasterFunction Infos: {"rasterFunctionInfos": [
{
"name": "RangeProd_ZScores_Attribute_Table",
"description": "A raster function template.",
"help": ""
},
{
"name": "None",
"description": "Make a Raster or Raster Dataset into a Function Raster Dataset.",
"help": ""
}
]}
Mensuration Capabilities: Basic
Inspection Capabilities:
Has Histograms: false
Has Colormap: false
Has Multi Dimensions : false
Rendering Rule:
Min Scale: 0
Max Scale: 0
Copyright Text: USDA Forest Service Office of Sustainability and Climate
Service Data Type: esriImageServiceDataTypeThematic
Min Values: N/A
Max Values: N/A
Mean Values: N/A
Standard Deviation Values: N/A
Object ID Field: OBJECTID
Fields:
-
OBJECTID
(
type: esriFieldTypeOID, alias: OBJECTID
)
-
Shape
(
type: esriFieldTypeGeometry, alias: Shape
)
-
Name
(
type: esriFieldTypeString, alias: Name, length: 200
)
-
MinPS
(
type: esriFieldTypeDouble, alias: MinPS
)
-
MaxPS
(
type: esriFieldTypeDouble, alias: MaxPS
)
-
LowPS
(
type: esriFieldTypeDouble, alias: LowPS
)
-
HighPS
(
type: esriFieldTypeDouble, alias: HighPS
)
-
Category
(
type: esriFieldTypeInteger, alias: Category
, Coded Values:
[0: Unknown]
, [1: Primary]
, [2: Overview]
, ...6 more...
)
-
Tag
(
type: esriFieldTypeString, alias: Tag, length: 100
)
-
GroupName
(
type: esriFieldTypeString, alias: GroupName, length: 100
)
-
ProductName
(
type: esriFieldTypeString, alias: ProductName, length: 100
)
-
CenterX
(
type: esriFieldTypeDouble, alias: CenterX
)
-
CenterY
(
type: esriFieldTypeDouble, alias: CenterY
)
-
ZOrder
(
type: esriFieldTypeInteger, alias: ZOrder
)
-
Shape_Length
(
type: esriFieldTypeDouble, alias: Shape_Length
)
-
Shape_Area
(
type: esriFieldTypeDouble, alias: Shape_Area
)
-
Year
(
type: esriFieldTypeString, alias: Year, length: 4
)
-
BeginTime
(
type: esriFieldTypeString, alias: BeginTime, length: 8
)
-
EndTime
(
type: esriFieldTypeString, alias: EndTime, length: 8
)
Default Mosaic Method: Northwest
Allowed Mosaic Methods: NorthWest,Center,LockRaster,ByAttribute,Nadir,Viewpoint,Seamline,None
SortField:
SortValue: null
Mosaic Operator: First
Default Compression Quality: 75
Default Resampling Method: Nearest
Max Record Count: 1000
Max Image Height: 4100
Max Image Width: 15000
Max Download Image Count: 20
Max Mosaic Image Count: 50
Allow Raster Function: true
Allow Copy: true
Allow Analysis: true
Allow Compute TiePoints: false
Supports Statistics: true
Supports Advanced Queries: true
Use StandardizedQueries: true
Raster Type Infos:
Name: Raster Dataset
Description: Supports all ArcGIS Raster Datasets
Help:
Has Raster Attribute Table: false
Edit Fields Info: null
Ownership Based AccessControl For Rasters: null
Child Resources:
Info
Statistics
Key Properties
Legend
Raster Function Infos
Supported Operations:
Export Image
Query
Identify
Measure
Compute Histograms
Compute Statistics Histograms
Get Samples
Compute Class Statistics
Query GPS Info
Find Images
Image to Map
Map to Image
Measure from Image
Image to Map Multiray
Query Boundary
Compute Pixel Location
Compute Angles
Validate
Project