View In:
ArcGIS JavaScript
ArcGIS Online Map Viewer
ArcGIS Earth
Service Description: This image service contains high-resolution land cover data for the states of Nebraska, South Dakota, and North Dakota. These data are a digital representation of land cover derived from 1-meter aerial imagery from the USDA National Agriculture Imagery Program (NAIP.) The year of NAIP used for each state was 2014.Data are intended for use in rural areas and therefore do not include land cover in cities and towns. Land cover classes (tree cover, other land cover, or water) were mapped using an object-based image analysis approach and supervised classification.These data are designed for conducting geospatial analyses and for producing cartographic products. In particular, these data are intended to depict the location of tree cover in the county. The mapping procedures were developed specifically for agricultural landscapes that are dominated by annual crops, rangeland, and pasture and where tree cover is often found in narrow configurations, such as windbreaks and riparian corridors. Because much of the tree cover in agricultural areas of the United States occurs in windbreaks and narrow riparian corridors, many geospatial datasets derived from coarser-resolution satellite data (such as Landsat), do not capture these landscape features. This dataset is intended to address this particular data gap.
Name: RDW_LandscapeAndWildlife/Northern_Plains_High_Resolution_Land_Cover
Description: This image service contains high-resolution land cover data for the states of Nebraska, South Dakota, and North Dakota. These data are a digital representation of land cover derived from 1-meter aerial imagery from the USDA National Agriculture Imagery Program (NAIP.) The year of NAIP used for each state was 2014.Data are intended for use in rural areas and therefore do not include land cover in cities and towns. Land cover classes (tree cover, other land cover, or water) were mapped using an object-based image analysis approach and supervised classification.These data are designed for conducting geospatial analyses and for producing cartographic products. In particular, these data are intended to depict the location of tree cover in the county. The mapping procedures were developed specifically for agricultural landscapes that are dominated by annual crops, rangeland, and pasture and where tree cover is often found in narrow configurations, such as windbreaks and riparian corridors. Because much of the tree cover in agricultural areas of the United States occurs in windbreaks and narrow riparian corridors, many geospatial datasets derived from coarser-resolution satellite data (such as Landsat), do not capture these landscape features. This dataset is intended to address this particular data gap.
Single Fused Map Cache: false
Extent:
XMin: 73634.63532238983
YMin: 4423325.582940336
XMax: 820752.6353223887
YMax: 5441283.582940334
Spatial Reference: 26914
(26914)
LatestVCSWkid(0)
Initial Extent:
XMin: 73634.63532238983
YMin: 4423325.582940336
XMax: 820752.6353223887
YMax: 5441283.582940334
Spatial Reference: 26914
(26914)
LatestVCSWkid(0)
Full Extent:
XMin: 73634.63532238983
YMin: 4423325.582940336
XMax: 820752.6353223887
YMax: 5441283.582940334
Spatial Reference: 26914
(26914)
LatestVCSWkid(0)
Pixel Size X: 0.9999999999999984
Pixel Size Y: 0.9999999999999982
Band Count: 1
Pixel Type: U4
RasterFunction Infos: {"rasterFunctionInfos": [{
"name": "None",
"description": "A No-Op Function.",
"help": ""
}]}
Mensuration Capabilities: Basic
Inspection Capabilities:
Has Histograms: true
Has Colormap: false
Has Multi Dimensions : false
Rendering Rule:
Min Scale: 0
Max Scale: 0
Copyright Text: This project was funded by the USDA Forest Service, Northern Research Station, Forest Inventory and Analysis and the USDA National Agroforestry Center.
Service Data Type: esriImageServiceDataTypeThematic
Min Values: 1
Max Values: 15
Mean Values: 2.094609533595847
Standard Deviation Values: 1.3143084695891916
Object ID Field: OBJECTID
Fields:
-
OBJECTID
(
type: esriFieldTypeOID, alias: OBJECTID
)
-
Shape
(
type: esriFieldTypeGeometry, alias: Shape
)
-
Name
(
type: esriFieldTypeString, alias: Name, length: 200
)
-
MinPS
(
type: esriFieldTypeDouble, alias: MinPS
)
-
MaxPS
(
type: esriFieldTypeDouble, alias: MaxPS
)
-
LowPS
(
type: esriFieldTypeDouble, alias: LowPS
)
-
HighPS
(
type: esriFieldTypeDouble, alias: HighPS
)
-
Category
(
type: esriFieldTypeInteger, alias: Category
, Coded Values:
[0: Unknown]
, [1: Primary]
, [2: Overview]
, ...6 more...
)
-
Tag
(
type: esriFieldTypeString, alias: Tag, length: 100
)
-
GroupName
(
type: esriFieldTypeString, alias: GroupName, length: 100
)
-
ProductName
(
type: esriFieldTypeString, alias: ProductName, length: 100
)
-
CenterX
(
type: esriFieldTypeDouble, alias: CenterX
)
-
CenterY
(
type: esriFieldTypeDouble, alias: CenterY
)
-
ZOrder
(
type: esriFieldTypeInteger, alias: ZOrder
)
-
Shape_Length
(
type: esriFieldTypeDouble, alias: Shape_Length
)
-
Shape_Area
(
type: esriFieldTypeDouble, alias: Shape_Area
)
Default Mosaic Method: Northwest
Allowed Mosaic Methods: NorthWest,Center,LockRaster,ByAttribute,Nadir,Viewpoint,Seamline,None
SortField:
SortValue: null
Mosaic Operator: First
Default Compression Quality: 75
Default Resampling Method: Nearest
Max Record Count: 1000
Max Image Height: 50000
Max Image Width: 50000
Max Download Image Count: 20
Max Mosaic Image Count: 20
Allow Raster Function: true
Allow Copy: true
Allow Analysis: true
Allow Compute TiePoints: false
Supports Statistics: true
Supports Advanced Queries: true
Use StandardizedQueries: true
Raster Type Infos:
Name: Raster Dataset
Description: Supports all ArcGIS Raster Datasets
Help:
Has Raster Attribute Table: true
Edit Fields Info: null
Ownership Based AccessControl For Rasters: null
Child Resources:
Info
Raster Attribute Table
Histograms
Statistics
Key Properties
Legend
Raster Function Infos
Supported Operations:
Export Image
Query
Identify
Measure
Compute Histograms
Compute Statistics Histograms
Get Samples
Compute Class Statistics
Query GPS Info
Find Images
Image to Map
Map to Image
Measure from Image
Image to Map Multiray
Query Boundary
Compute Pixel Location
Compute Angles
Validate
Project