View In:
ArcGIS JavaScript
ArcGIS Online Map Viewer
ArcGIS Earth
Service Description: RDW_Landfire-US_BiophysicalSettings_v140
Name: RDW_Landfire/US_BiophysicalSettings_v140
Description: RDW_Landfire-US_BiophysicalSettings_v140
Single Fused Map Cache: false
Extent:
XMin: -2362425.0
YMin: 258915.0
XMax: 2263815.0
YMax: 3177435.0
Spatial Reference: 0
(0)
LatestVCSWkid(0)
Initial Extent:
XMin: -2362425.0
YMin: 258915.0
XMax: 2263815.0
YMax: 3177435.0
Spatial Reference: 0
(0)
LatestVCSWkid(0)
Full Extent:
XMin: -2362425.0
YMin: 258915.0
XMax: 2263815.0
YMax: 3177435.0
Spatial Reference: 0
(0)
LatestVCSWkid(0)
Pixel Size X: 30.0
Pixel Size Y: 30.0
Band Count: 1
Pixel Type: S16
RasterFunction Infos: {"rasterFunctionInfos": [{
"name": "None",
"description": "",
"help": ""
}]}
Mensuration Capabilities: Basic
Inspection Capabilities:
Has Histograms: true
Has Colormap: false
Has Multi Dimensions : false
Rendering Rule:
Min Scale: 0
Max Scale: 0
Copyright Text:
Service Data Type: esriImageServiceDataTypeThematic
Min Values: -9999
Max Values: 2160
Mean Values: -1975.2778510656
Standard Deviation Values: 5181.0255036518
Object ID Field:
Fields:
None
Default Mosaic Method: Center
Allowed Mosaic Methods:
SortField:
SortValue: null
Mosaic Operator: First
Default Compression Quality: 75
Default Resampling Method: Bilinear
Max Record Count: null
Max Image Height: 4100
Max Image Width: 15000
Max Download Image Count: null
Max Mosaic Image Count: null
Allow Raster Function: true
Allow Copy: true
Allow Analysis: true
Allow Compute TiePoints: false
Supports Statistics: false
Supports Advanced Queries: false
Use StandardizedQueries: true
Raster Type Infos:
Name: Raster Dataset
Description: Supports all ArcGIS Raster Datasets
Help:
Has Raster Attribute Table: true
Edit Fields Info: null
Ownership Based AccessControl For Rasters: null
Child Resources:
Info
Raster Attribute Table
Histograms
Statistics
Key Properties
Legend
Raster Function Infos
Supported Operations:
Export Image
Identify
Measure
Compute Histograms
Compute Statistics Histograms
Get Samples
Compute Class Statistics
Query Boundary
Compute Pixel Location
Compute Angles
Validate
Project