View In:
ArcGIS JavaScript
ArcGIS Online Map Viewer
ArcGIS Earth
Service Description: TreeMap 2016 provides a tree-level model of the forests of the conterminous United States. We matched forest plot data from Forest Inventory and Analysis (FIA) to a 30x30 meter (m) grid. TreeMap 2016 is being used in both the private and public sectors for projects including fuel treatment planning, snag hazard mapping, and estimation of terrestrial carbon resources. We used a random forests machine-learning algorithm to impute the forest plot data to a set of target rasters provided by Landscape Fire and Resource Management Planning Tools (LANDFIRE: https://landfire.gov). Predictor variables consisted of percent forest cover, height, and vegetation type, as well as topography (slope, elevation, and aspect), location (latitude and longitude), biophysical variables (photosynthetically active radiation, precipitation, maximum temperature, minimum temperature, relative humidity, and vapour pressure deficit), and disturbance history (time since disturbance and disturbance type) for the landscape circa 2016. The main output of this project (the GeoTIFF included in this data publication) is a raster map of imputed plot identifiers at 30A?--30 m spatial resolution for the conterminous U.S. for landscape conditions circa 2016. In the attribute table of this raster, we also present a set of attributes drawn from the FIA databases, including forest type and live basal area. The raster map of plot identifiers can be linked to the FIA databases available through the FIA DataMart (https://doi.org/10.2737/RDS-2001-FIADB). The dataset has been validated for applications including percent live tree cover, height of the dominant trees, forest type, species of trees with most basal area, aboveground biomass, fuel treatment planning, and snag hazard. Application of the dataset to research questions other than those for which it has been validated should be investigated by the researcher before proceeding. The dataset may be suitable for other applications and for use across various scales (stand, landscape, and region), however, the researcher should test the dataset's applicability to a particular research question before proceeding.
Name: RDW_ForestEcology/TreeMap_2016_Stand_QuadraticMeanDiameter_Albers
Description: TreeMap 2016 provides a tree-level model of the forests of the conterminous United States. We matched forest plot data from Forest Inventory and Analysis (FIA) to a 30x30 meter (m) grid. TreeMap 2016 is being used in both the private and public sectors for projects including fuel treatment planning, snag hazard mapping, and estimation of terrestrial carbon resources. We used a random forests machine-learning algorithm to impute the forest plot data to a set of target rasters provided by Landscape Fire and Resource Management Planning Tools (LANDFIRE: https://landfire.gov). Predictor variables consisted of percent forest cover, height, and vegetation type, as well as topography (slope, elevation, and aspect), location (latitude and longitude), biophysical variables (photosynthetically active radiation, precipitation, maximum temperature, minimum temperature, relative humidity, and vapour pressure deficit), and disturbance history (time since disturbance and disturbance type) for the landscape circa 2016. The main output of this project (the GeoTIFF included in this data publication) is a raster map of imputed plot identifiers at 30A?--30 m spatial resolution for the conterminous U.S. for landscape conditions circa 2016. In the attribute table of this raster, we also present a set of attributes drawn from the FIA databases, including forest type and live basal area. The raster map of plot identifiers can be linked to the FIA databases available through the FIA DataMart (https://doi.org/10.2737/RDS-2001-FIADB). The dataset has been validated for applications including percent live tree cover, height of the dominant trees, forest type, species of trees with most basal area, aboveground biomass, fuel treatment planning, and snag hazard. Application of the dataset to research questions other than those for which it has been validated should be investigated by the researcher before proceeding. The dataset may be suitable for other applications and for use across various scales (stand, landscape, and region), however, the researcher should test the dataset's applicability to a particular research question before proceeding.
Single Fused Map Cache: false
Extent:
XMin: -2362861.681777494
YMin: 259050.4322301438
XMax: 2263798.318222506
YMax: 3180570.432230144
Spatial Reference: PROJCS["NAD_1983_Albers",GEOGCS["GCS_North_American_1983",DATUM["D_North_American_1983",SPHEROID["GRS_1980",6378137.0,298.257222101]],PRIMEM["Greenwich",0.0],UNIT["Degree",0.0174532925199433]],PROJECTION["Albers"],PARAMETER["False_Easting",0.0],PARAMETER["False_Northing",0.0],PARAMETER["central_meridian",-96.0],PARAMETER["Standard_Parallel_1",29.5],PARAMETER["Standard_Parallel_2",45.5],PARAMETER["latitude_of_origin",23.0],UNIT["Meter",1.0]]
Initial Extent:
XMin: -2362861.681777494
YMin: 259050.4322301438
XMax: 2263798.318222506
YMax: 3180570.432230144
Spatial Reference: PROJCS["NAD_1983_Albers",GEOGCS["GCS_North_American_1983",DATUM["D_North_American_1983",SPHEROID["GRS_1980",6378137.0,298.257222101]],PRIMEM["Greenwich",0.0],UNIT["Degree",0.0174532925199433]],PROJECTION["Albers"],PARAMETER["False_Easting",0.0],PARAMETER["False_Northing",0.0],PARAMETER["central_meridian",-96.0],PARAMETER["Standard_Parallel_1",29.5],PARAMETER["Standard_Parallel_2",45.5],PARAMETER["latitude_of_origin",23.0],UNIT["Meter",1.0]]
Full Extent:
XMin: -2362861.681777494
YMin: 259050.4322301438
XMax: 2263798.318222506
YMax: 3180570.432230144
Spatial Reference: PROJCS["NAD_1983_Albers",GEOGCS["GCS_North_American_1983",DATUM["D_North_American_1983",SPHEROID["GRS_1980",6378137.0,298.257222101]],PRIMEM["Greenwich",0.0],UNIT["Degree",0.0174532925199433]],PROJECTION["Albers"],PARAMETER["False_Easting",0.0],PARAMETER["False_Northing",0.0],PARAMETER["central_meridian",-96.0],PARAMETER["Standard_Parallel_1",29.5],PARAMETER["Standard_Parallel_2",45.5],PARAMETER["latitude_of_origin",23.0],UNIT["Meter",1.0]]
Pixel Size X: 30.0
Pixel Size Y: 30.0
Band Count: 1
Pixel Type: F64
RasterFunction Infos: {"rasterFunctionInfos": [
{
"name": "Stand_QuadraticMeanDiameter_StretchStdDev",
"description": "A raster function template.",
"help": ""
},
{
"name": "Stand_QuadraticMeanDiameter_ColorRamp_Stretch",
"description": "colo ramp for Stand Quadratic Mean Diameter variable",
"help": ""
},
{
"name": "None",
"description": "A No-Op Function.",
"help": ""
}
]}
Mensuration Capabilities: None
Has Histograms: true
Has Colormap: false
Has Multi Dimensions : false
Rendering Rule:
Min Scale: 0
Max Scale: 0
Copyright Text:
Service Data Type: esriImageServiceDataTypeThematic
Min Values: 1.1
Max Values: 31.6
Mean Values: 8.065438019412456
Standard Deviation Values: 3.473990838043317
Object ID Field: OBJECTID
Fields:
-
OBJECTID
(
type: esriFieldTypeOID, alias: OBJECTID
)
-
Shape
(
type: esriFieldTypeGeometry, alias: Shape
)
-
Name
(
type: esriFieldTypeString, alias: Name, length: 200
)
-
MinPS
(
type: esriFieldTypeDouble, alias: MinPS
)
-
MaxPS
(
type: esriFieldTypeDouble, alias: MaxPS
)
-
LowPS
(
type: esriFieldTypeDouble, alias: LowPS
)
-
HighPS
(
type: esriFieldTypeDouble, alias: HighPS
)
-
Category
(
type: esriFieldTypeInteger, alias: Category
,
Coded Values:
[0: Unknown]
,
[1: Primary]
,
[2: Overview]
, ...6 more...
)
-
Tag
(
type: esriFieldTypeString, alias: Tag, length: 100
)
-
GroupName
(
type: esriFieldTypeString, alias: GroupName, length: 100
)
-
ProductName
(
type: esriFieldTypeString, alias: ProductName, length: 100
)
-
CenterX
(
type: esriFieldTypeDouble, alias: CenterX
)
-
CenterY
(
type: esriFieldTypeDouble, alias: CenterY
)
-
ZOrder
(
type: esriFieldTypeInteger, alias: ZOrder
)
-
Shape_Length
(
type: esriFieldTypeDouble, alias: Shape_Length
)
-
Shape_Area
(
type: esriFieldTypeDouble, alias: Shape_Area
)
Default Mosaic Method: Northwest
Allowed Mosaic Methods: NorthWest,Center,LockRaster,ByAttribute,Nadir,Viewpoint,Seamline,None
SortField:
SortValue: null
Mosaic Operator: First
Default Compression Quality: 75
Default Resampling Method: Nearest
Max Record Count: 1000
Max Image Height: 15000
Max Image Width: 15000
Max Download Image Count: 20
Max Mosaic Image Count: 20
Allow Raster Function: true
Allow Copy: true
Allow Analysis: true
Allow Compute TiePoints: false
Supports Statistics: true
Supports Advanced Queries: true
Use StandardizedQueries: true
Raster Type Infos:
Name: Raster Dataset
Description: Supports all ArcGIS Raster Datasets
Help:
Has Raster Attribute Table: false
Edit Fields Info: null
Ownership Based AccessControl For Rasters: null
Child Resources:
Info
Histograms
Statistics
Key Properties
Legend
Raster Function Infos
Supported Operations:
Export Image
Query
Identify
Compute Histograms
Compute Statistics Histograms
Get Samples
Compute Class Statistics
Query Boundary
Compute Pixel Location
Compute Angles
Validate
Project