View In:
ArcGIS JavaScript
ArcGIS Online Map Viewer
ArcGIS Earth
ArcGIS Pro
Service Description: FIA Modeled Abundance depicts current species abundance and distribution across the contiguous United States, modeled by using FIA field plot data. Although the absolute values associated with the maps differ from species to species, the highest values within each map are always associated with darker colors.The Little's Range Boundaries show the historical tree species ranges across North America. This is a digital representation of maps by Elbert L. Little, Jr., published between 1971 and 1977. These maps were based on botanical lists, forest surveys, field notes and herbarium specimens.
Map Name: s611_map_WM
Legend
All Layers and Tables
Dynamic Legend
Dynamic All Layers
Layers:
Description: FIA Modeled Abundance depicts current species abundance and distribution across the contiguous United States, modeled by using FIA field plot data. Although the absolute values associated with the maps differ from species to species, the highest values within each map are always associated with darker colors.The Little's Range Boundaries show the historical tree species ranges across North America. This is a digital representation of maps by Elbert L. Little, Jr., published between 1971 and 1977. These maps were based on botanical lists, forest surveys, field notes and herbarium specimens.
Copyright Text: The USDA Forest Service makes no warranty, expressed or implied, including the warranties of merchantability and fitness for a particular purpose, nor assumes any legal liability or responsibility for the accuracy, reliability, completeness or utility of these geospatial data, or for the improper or incorrect use of these geospatial data. These geospatial data and related maps or graphics are not legal documents and are not intended to be used as such. The data and maps may not be used to determine title, ownership, legal descriptions or boundaries, legal jurisdiction, or restrictions that may be in place on either public or private land. Natural hazards may or may not be depicted on the data and maps, and land users should exercise due caution. The data are dynamic and may change over time. The user is responsible to verify the limitations of the geospatial data and to use the data accordingly.
Spatial Reference:
102100
(3857)
Single Fused Map Cache: true
Tile Info:
- Height: 256
- Width: 256
- DPI: 96
-
Levels of Detail: 20
-
Level ID: 0
[ Start Tile, End Tile ]
- Resolution: 156543.03392800014
- Scale: 5.91657527591555E8
-
Level ID: 1
[ Start Tile, End Tile ]
- Resolution: 78271.51696399994
- Scale: 2.95828763795777E8
-
Level ID: 2
[ Start Tile, End Tile ]
- Resolution: 39135.75848200009
- Scale: 1.47914381897889E8
-
Level ID: 3
[ Start Tile, End Tile ]
- Resolution: 19567.87924099992
- Scale: 7.3957190948944E7
-
Level ID: 4
[ Start Tile, End Tile ]
- Resolution: 9783.93962049996
- Scale: 3.6978595474472E7
-
Level ID: 5
[ Start Tile, End Tile ]
- Resolution: 4891.96981024998
- Scale: 1.8489297737236E7
- Format: PNG32
- Compression Quality: 0.0
- Origin: X: -2.0037508342787E7
Y: 2.0037508342787E7
- Spatial Reference: 102100
(3857)
Storage Info:
- Storage Format: esriMapCacheStorageModeExploded
- Packet Size: 0
Initial Extent:
XMin: -1.547053134764575E7
YMin: 2594617.717310022
XMax: -6016949.940482931
YMax: 8269941.567957725
Spatial Reference: 102100
Full Extent:
XMin: -1.4303401039508116E7
YMin: 1483512.9886596068
XMax: -7206651.0395081155
YMax: 6787475.143498025
Spatial Reference: 102100
Units: esriMeters
Supported Image Format Types: PNG32,PNG24,PNG,JPG,DIB,TIFF,EMF,PS,PDF,GIF,SVG,SVGZ,BMP
Document Info:
Title: Untitled.aprx
Author:
Comments: FIA Modeled Abundance depicts current species abundance and distribution across the contiguous United States, modeled by using FIA field plot data. Although the absolute values associated with the maps differ from species to species, the highest values within each map are always associated with darker colors.
The Little's Range Boundaries show the historical tree species ranges across North America. This is a digital representation of maps by Elbert L. Little, Jr., published between 1971 and 1977. These maps were based on botanical lists, forest surveys, field notes and herbarium specimens.
Subject: Modeled Abundance and Little's Range Boundary for sweetgum (Liquidambar styraciflua).
Category:
Keywords: FIA Atlas,Sweetgum,Liquidambar styraciflua
AntialiasingMode: None
TextAntialiasingMode: Force
Supports Dynamic Layers: true
MaxRecordCount: 1000
MaxImageHeight: 4096
MaxImageWidth: 4096
Supported Query Formats: JSON, geoJSON, PBF
Supports Query Data Elements: true
Min Scale: 7.3957190948944E7
Max Scale: 577790.554289
Supports Datum Transformation: true
Child Resources:
Info
Dynamic Layer
Supported Operations:
Export Map
Identify
QueryLegends
QueryDomains
Find
Return Updates